BEGIN:VCALENDAR
VERSION:2.0
PRODID:-//Helena High School - ECPv6.15.20//NONSGML v1.0//EN
CALSCALE:GREGORIAN
METHOD:PUBLISH
X-ORIGINAL-URL:https://hhs.helenaschools.org
X-WR-CALDESC:Events for Helena High School
REFRESH-INTERVAL;VALUE=DURATION:PT1H
X-Robots-Tag:noindex
X-PUBLISHED-TTL:PT1H
BEGIN:VTIMEZONE
TZID:America/Denver
BEGIN:DAYLIGHT
TZOFFSETFROM:-0700
TZOFFSETTO:-0600
TZNAME:MDT
DTSTART:20200308T090000
END:DAYLIGHT
BEGIN:STANDARD
TZOFFSETFROM:-0600
TZOFFSETTO:-0700
TZNAME:MST
DTSTART:20201101T080000
END:STANDARD
BEGIN:DAYLIGHT
TZOFFSETFROM:-0700
TZOFFSETTO:-0600
TZNAME:MDT
DTSTART:20210314T090000
END:DAYLIGHT
BEGIN:STANDARD
TZOFFSETFROM:-0600
TZOFFSETTO:-0700
TZNAME:MST
DTSTART:20211107T080000
END:STANDARD
BEGIN:DAYLIGHT
TZOFFSETFROM:-0700
TZOFFSETTO:-0600
TZNAME:MDT
DTSTART:20220313T090000
END:DAYLIGHT
BEGIN:STANDARD
TZOFFSETFROM:-0600
TZOFFSETTO:-0700
TZNAME:MST
DTSTART:20221106T080000
END:STANDARD
END:VTIMEZONE
BEGIN:VEVENT
DTSTART;TZID=America/Denver:20210910T120000
DTEND;TZID=America/Denver:20210910T130000
DTSTAMP:20260421T044022
CREATED:20210819T191412Z
LAST-MODIFIED:20210910T202942Z
UID:24578-1631275200-1631278800@hhs.helenaschools.org
SUMMARY:Budget & Finance Committee Meeting 09.10.21
DESCRIPTION:
URL:https://hhs.helenaschools.org/event/budget-finance-committee-meeting-09-10-21/
LOCATION:May Butler Center\, 55 S Rodney Street\, Helena\, MT\, 59601\, United States
CATEGORIES:Board of Trustees Meeting,Budget and Finance Committee
ORGANIZER;CN="Board of Trustees":MAILTO:boardoftrustees@helenaschools.org
END:VEVENT
BEGIN:VEVENT
DTSTART;TZID=America/Denver:20210806T120000
DTEND;TZID=America/Denver:20210806T130000
DTSTAMP:20260421T044022
CREATED:20210719T174717Z
LAST-MODIFIED:20210806T191542Z
UID:24513-1628251200-1628254800@hhs.helenaschools.org
SUMMARY:BOARD OF TRUSTEES BUDGET & FINANCE COMMITTEE MEETING-08.06.21
DESCRIPTION:
URL:https://hhs.helenaschools.org/event/board-of-trustees-budget-finance-committee-meeting-08-06-21/
LOCATION:May Butler Center\, 55 S Rodney Street\, Helena\, MT\, 59601\, United States
CATEGORIES:Board of Trustees Meeting,Budget and Finance Committee
ORGANIZER;CN="Board of Trustees":MAILTO:boardoftrustees@helenaschools.org
END:VEVENT
BEGIN:VEVENT
DTSTART;TZID=America/Denver:20210316T120000
DTEND;TZID=America/Denver:20210316T133000
DTSTAMP:20260421T044022
CREATED:20210312T101609Z
LAST-MODIFIED:20210316T111845Z
UID:24141-1615896000-1615901400@hhs.helenaschools.org
SUMMARY:Board of Trustees Budget & Finance Committee Meeting – 03.16.2021
DESCRIPTION:
URL:https://hhs.helenaschools.org/event/board-of-trustees-budget-finance-committee-meeting-03-16-2021/
LOCATION:May Butler Center\, 55 S Rodney Street\, Helena\, MT\, 59601\, United States
CATEGORIES:Board of Trustees Meeting,Budget and Finance Committee,District Schedule
ORGANIZER;CN="Board of Trustees":MAILTO:boardoftrustees@helenaschools.org
END:VEVENT
BEGIN:VEVENT
DTSTART;TZID=America/Denver:20210216T120000
DTEND;TZID=America/Denver:20210216T133000
DTSTAMP:20260421T044022
CREATED:20210213T041656Z
LAST-MODIFIED:20210216T043159Z
UID:24004-1613476800-1613482200@hhs.helenaschools.org
SUMMARY:Board of Trustees Budget & Finance Committee Meeting – 02.16.2021
DESCRIPTION:
URL:https://hhs.helenaschools.org/event/board-of-trustees-budget-finance-committee-meeting-02-16-2021/
LOCATION:May Butler Center\, 55 S Rodney Street\, Helena\, MT\, 59601\, United States
CATEGORIES:Board of Trustees Meeting,Budget and Finance Committee,District Schedule
ORGANIZER;CN="Board of Trustees":MAILTO:boardoftrustees@helenaschools.org
END:VEVENT
BEGIN:VEVENT
DTSTART;TZID=America/Denver:20210121T120000
DTEND;TZID=America/Denver:20210121T133000
DTSTAMP:20260421T044022
CREATED:20210116T001630Z
LAST-MODIFIED:20210121T012348Z
UID:23852-1611230400-1611235800@hhs.helenaschools.org
SUMMARY:Board of Trustees Budget & Finance Committee Meeting – 01.21.2021
DESCRIPTION:
URL:https://hhs.helenaschools.org/event/board-of-trustees-budget-finance-committee-meeting-01-21-2021/
LOCATION:May Butler Center\, 55 S Rodney Street\, Helena\, MT\, 59601\, United States
CATEGORIES:Board of Trustees Meeting,Budget and Finance Committee,District Schedule
ORGANIZER;CN="Board of Trustees":MAILTO:boardoftrustees@helenaschools.org
END:VEVENT
BEGIN:VEVENT
DTSTART;TZID=America/Denver:20210108T120000
DTEND;TZID=America/Denver:20210108T133000
DTSTAMP:20260421T044022
CREATED:20210106T020142Z
LAST-MODIFIED:20210107T040146Z
UID:23806-1610107200-1610112600@hhs.helenaschools.org
SUMMARY:Board of Trustees Budget & Finance Committee Meeting – 01.08.2021
DESCRIPTION:
URL:https://hhs.helenaschools.org/event/board-of-trustees-budget-finance-committee-meeting-01-08-2021/
LOCATION:May Butler Center\, 55 S Rodney Street\, Helena\, MT\, 59601\, United States
CATEGORIES:Board of Trustees Meeting,Budget and Finance Committee,District Schedule
ORGANIZER;CN="Board of Trustees":MAILTO:boardoftrustees@helenaschools.org
END:VEVENT
END:VCALENDAR