BEGIN:VCALENDAR
VERSION:2.0
PRODID:-//Helena High School - ECPv6.15.20//NONSGML v1.0//EN
CALSCALE:GREGORIAN
METHOD:PUBLISH
X-ORIGINAL-URL:https://hhs.helenaschools.org
X-WR-CALDESC:Events for Helena High School
REFRESH-INTERVAL;VALUE=DURATION:PT1H
X-Robots-Tag:noindex
X-PUBLISHED-TTL:PT1H
BEGIN:VTIMEZONE
TZID:America/Denver
BEGIN:DAYLIGHT
TZOFFSETFROM:-0700
TZOFFSETTO:-0600
TZNAME:MDT
DTSTART:20200308T090000
END:DAYLIGHT
BEGIN:STANDARD
TZOFFSETFROM:-0600
TZOFFSETTO:-0700
TZNAME:MST
DTSTART:20201101T080000
END:STANDARD
BEGIN:DAYLIGHT
TZOFFSETFROM:-0700
TZOFFSETTO:-0600
TZNAME:MDT
DTSTART:20210314T090000
END:DAYLIGHT
BEGIN:STANDARD
TZOFFSETFROM:-0600
TZOFFSETTO:-0700
TZNAME:MST
DTSTART:20211107T080000
END:STANDARD
BEGIN:DAYLIGHT
TZOFFSETFROM:-0700
TZOFFSETTO:-0600
TZNAME:MDT
DTSTART:20220313T090000
END:DAYLIGHT
BEGIN:STANDARD
TZOFFSETFROM:-0600
TZOFFSETTO:-0700
TZNAME:MST
DTSTART:20221106T080000
END:STANDARD
END:VTIMEZONE
BEGIN:VEVENT
DTSTART;TZID=America/Denver:20211023T100000
DTEND;TZID=America/Denver:20211023T120000
DTSTAMP:20260421T072330
CREATED:20210923T204555Z
LAST-MODIFIED:20211007T154417Z
UID:24926-1634983200-1634990400@hhs.helenaschools.org
SUMMARY:CHS Frosh Football vs Helena High
DESCRIPTION:
URL:https://hhs.helenaschools.org/event/chs-frosh-football-vs-helena-high/
CATEGORIES:Capital High Football - Frosh
END:VEVENT
BEGIN:VEVENT
DTSTART;TZID=America/Denver:20211016T110000
DTEND;TZID=America/Denver:20211016T130000
DTSTAMP:20260421T072330
CREATED:20210916T204429Z
LAST-MODIFIED:20211007T154416Z
UID:24824-1634382000-1634389200@hhs.helenaschools.org
SUMMARY:CHS Frosh Football vs Sentinel
DESCRIPTION:
URL:https://hhs.helenaschools.org/event/chs-frosh-football-vs-sentinel/
CATEGORIES:Capital High Football - Frosh
END:VEVENT
BEGIN:VEVENT
DTSTART;TZID=America/Denver:20211007T160000
DTEND;TZID=America/Denver:20211007T180000
DTSTAMP:20260421T072330
CREATED:20210907T202918Z
LAST-MODIFIED:20211007T154415Z
UID:24752-1633622400-1633629600@hhs.helenaschools.org
SUMMARY:CHS Frosh Football vs Hellgate – Away
DESCRIPTION:
URL:https://hhs.helenaschools.org/event/chs-frosh-football-vs-hellgate-away/
CATEGORIES:Capital High Football - Frosh
END:VEVENT
BEGIN:VEVENT
DTSTART;TZID=America/Denver:20210930T160000
DTEND;TZID=America/Denver:20210930T180000
DTSTAMP:20260421T072330
CREATED:20210902T201728Z
LAST-MODIFIED:20210930T211641Z
UID:24662-1633017600-1633024800@hhs.helenaschools.org
SUMMARY:CHS Frosh Football vs Butte
DESCRIPTION:
URL:https://hhs.helenaschools.org/event/chs-frosh-football-vs-butte/
CATEGORIES:Capital High Football - Frosh
END:VEVENT
BEGIN:VEVENT
DTSTART;TZID=America/Denver:20210927T160000
DTEND;TZID=America/Denver:20210927T170000
DTSTAMP:20260421T072330
CREATED:20210923T204550Z
LAST-MODIFIED:20210927T211545Z
UID:24915-1632758400-1632762000@hhs.helenaschools.org
SUMMARY:CHS FROSH Football vs Glacier – Home
DESCRIPTION:
URL:https://hhs.helenaschools.org/event/chs-frosh-football-vs-glacier-home/
CATEGORIES:Capital High Football - Frosh
END:VEVENT
BEGIN:VEVENT
DTSTART;TZID=America/Denver:20210925T110000
DTEND;TZID=America/Denver:20210925T130000
DTSTAMP:20260421T072330
CREATED:20210902T201727Z
LAST-MODIFIED:20210922T204420Z
UID:24659-1632567600-1632574800@hhs.helenaschools.org
SUMMARY:CHS Frosh Football vs Glacier
DESCRIPTION:
URL:https://hhs.helenaschools.org/event/chs-frosh-football-vs-glacier/
CATEGORIES:Capital High Football - Frosh
END:VEVENT
BEGIN:VEVENT
DTSTART;TZID=America/Denver:20210918T100000
DTEND;TZID=America/Denver:20210918T120000
DTSTAMP:20260421T072330
CREATED:20210902T201727Z
LAST-MODIFIED:20210918T204418Z
UID:24651-1631959200-1631966400@hhs.helenaschools.org
SUMMARY:CHS Frosh Football vs Big Sky – Away
DESCRIPTION:
URL:https://hhs.helenaschools.org/event/chs-frosh-football-vs-big-sky-away/
CATEGORIES:Capital High Football - Frosh
END:VEVENT
BEGIN:VEVENT
DTSTART;VALUE=DATE:20210909
DTEND;VALUE=DATE:20210910
DTSTAMP:20260421T072330
CREATED:20210902T201725Z
LAST-MODIFIED:20210909T202914Z
UID:24639-1631145600-1631231999@hhs.helenaschools.org
SUMMARY:CHS Frosh Football vs Flathead – Away
DESCRIPTION:
URL:https://hhs.helenaschools.org/event/chs-frosh-football-vs-flathead-away/
CATEGORIES:Capital High Football - Frosh
END:VEVENT
BEGIN:VEVENT
DTSTART;VALUE=DATE:20210904
DTEND;VALUE=DATE:20210905
DTSTAMP:20260421T072330
CREATED:20210902T201725Z
LAST-MODIFIED:20210904T201629Z
UID:24636-1630713600-1630799999@hhs.helenaschools.org
SUMMARY:CHS Frosh Football vs Great Falls High
DESCRIPTION:
URL:https://hhs.helenaschools.org/event/chs-frosh-football-vs-great-falls-high/
CATEGORIES:Capital High Football - Frosh
END:VEVENT
END:VCALENDAR