BEGIN:VCALENDAR
VERSION:2.0
PRODID:-//Helena High School - ECPv6.15.20//NONSGML v1.0//EN
CALSCALE:GREGORIAN
METHOD:PUBLISH
X-WR-CALNAME:Helena High School
X-ORIGINAL-URL:https://hhs.helenaschools.org
X-WR-CALDESC:Events for Helena High School
REFRESH-INTERVAL;VALUE=DURATION:PT1H
X-Robots-Tag:noindex
X-PUBLISHED-TTL:PT1H
BEGIN:VTIMEZONE
TZID:America/Denver
BEGIN:DAYLIGHT
TZOFFSETFROM:-0700
TZOFFSETTO:-0600
TZNAME:MDT
DTSTART:20190310T090000
END:DAYLIGHT
BEGIN:STANDARD
TZOFFSETFROM:-0600
TZOFFSETTO:-0700
TZNAME:MST
DTSTART:20191103T080000
END:STANDARD
BEGIN:DAYLIGHT
TZOFFSETFROM:-0700
TZOFFSETTO:-0600
TZNAME:MDT
DTSTART:20200308T090000
END:DAYLIGHT
BEGIN:STANDARD
TZOFFSETFROM:-0600
TZOFFSETTO:-0700
TZNAME:MST
DTSTART:20201101T080000
END:STANDARD
BEGIN:DAYLIGHT
TZOFFSETFROM:-0700
TZOFFSETTO:-0600
TZNAME:MDT
DTSTART:20210314T090000
END:DAYLIGHT
BEGIN:STANDARD
TZOFFSETFROM:-0600
TZOFFSETTO:-0700
TZNAME:MST
DTSTART:20211107T080000
END:STANDARD
BEGIN:DAYLIGHT
TZOFFSETFROM:-0700
TZOFFSETTO:-0600
TZNAME:MDT
DTSTART:20220313T090000
END:DAYLIGHT
BEGIN:STANDARD
TZOFFSETFROM:-0600
TZOFFSETTO:-0700
TZNAME:MST
DTSTART:20221106T080000
END:STANDARD
END:VTIMEZONE
BEGIN:VEVENT
DTSTART;TZID=America/Denver:20211019T140000
DTEND;TZID=America/Denver:20211019T160000
DTSTAMP:20260420T165138
CREATED:20211018T180103Z
LAST-MODIFIED:20211019T180157Z
UID:25571-1634652000-1634659200@hhs.helenaschools.org
SUMMARY:HHS Boys Soccer vs Missoula Sentinel – State AA Playoffs
DESCRIPTION:
URL:https://hhs.helenaschools.org/event/hhs-boys-soccer-vs-missoula-sentinel-state-aa-playoffs/
LOCATION:Siebel Fields\, 2550 Skyway Dr.\, Helena\, MT\, 59601\, United States
CATEGORIES:Helena High Boys Soccer
END:VEVENT
BEGIN:VEVENT
DTSTART;VALUE=DATE:20211014
DTEND;VALUE=DATE:20211015
DTSTAMP:20260420T165138
CREATED:20210914T204442Z
LAST-MODIFIED:20211014T174408Z
UID:24797-1634169600-1634255999@hhs.helenaschools.org
SUMMARY:HHS Boys Soccer vs Big Sky – Home
DESCRIPTION:
URL:https://hhs.helenaschools.org/event/hhs-boys-soccer-vs-big-sky-home/
CATEGORIES:Helena High Boys Soccer
END:VEVENT
BEGIN:VEVENT
DTSTART;VALUE=DATE:20211012
DTEND;VALUE=DATE:20211013
DTSTAMP:20260420T165138
CREATED:20210912T204604Z
LAST-MODIFIED:20211012T171818Z
UID:24779-1633996800-1634083199@hhs.helenaschools.org
SUMMARY:HHS Boys Soccer vs Hellgate – Away
DESCRIPTION:
URL:https://hhs.helenaschools.org/event/hhs-boys-soccer-vs-hellgate-away/
CATEGORIES:Helena High Boys Soccer
END:VEVENT
BEGIN:VEVENT
DTSTART;TZID=America/Denver:20211009T110000
DTEND;TZID=America/Denver:20211009T130000
DTSTAMP:20260420T165138
CREATED:20210923T204553Z
LAST-MODIFIED:20211009T163322Z
UID:24918-1633777200-1633784400@hhs.helenaschools.org
SUMMARY:HHS Boys JV Soccer vs Butte – Away
DESCRIPTION:
URL:https://hhs.helenaschools.org/event/hhs-boys-jv-soccer-vs-butte-away/
CATEGORIES:Helena High Boys Soccer
END:VEVENT
BEGIN:VEVENT
DTSTART;VALUE=DATE:20211005
DTEND;VALUE=DATE:20211007
DTSTAMP:20260420T165138
CREATED:20210906T201424Z
LAST-MODIFIED:20211005T213523Z
UID:24737-1633392000-1633564799@hhs.helenaschools.org
SUMMARY:HHS Boys Soccer vs Capital High – Away
DESCRIPTION:
URL:https://hhs.helenaschools.org/event/hhs-boys-soccer-vs-capital-high-away/
CATEGORIES:Helena High Boys Soccer
END:VEVENT
BEGIN:VEVENT
DTSTART;VALUE=DATE:20211002
DTEND;VALUE=DATE:20211003
DTSTAMP:20260420T165138
CREATED:20210903T201430Z
LAST-MODIFIED:20211002T213334Z
UID:24702-1633132800-1633219199@hhs.helenaschools.org
SUMMARY:HHS Boys Soccer vs Butte – Home
DESCRIPTION:
URL:https://hhs.helenaschools.org/event/hhs-boys-soccer-vs-butte-away/
CATEGORIES:Helena High Boys Soccer
END:VEVENT
BEGIN:VEVENT
DTSTART;VALUE=DATE:20210929
DTEND;VALUE=DATE:20210930
DTSTAMP:20260420T165138
CREATED:20210903T201429Z
LAST-MODIFIED:20210929T211815Z
UID:24699-1632873600-1632959999@hhs.helenaschools.org
SUMMARY:HHS Boys Soccer vs Sentinel – Away
DESCRIPTION:
URL:https://hhs.helenaschools.org/event/hhs-boys-soccer-vs-sentinel-away/
CATEGORIES:Helena High Boys Soccer
END:VEVENT
BEGIN:VEVENT
DTSTART;VALUE=DATE:20210925
DTEND;VALUE=DATE:20210926
DTSTAMP:20260420T165138
CREATED:20210903T201428Z
LAST-MODIFIED:20210925T205954Z
UID:24695-1632528000-1632614399@hhs.helenaschools.org
SUMMARY:HHS Boys Soccer vs. Flathead – Home
DESCRIPTION:
URL:https://hhs.helenaschools.org/event/hhs-boys-soccer-vs-flathead-home/
CATEGORIES:Helena High Boys Soccer
END:VEVENT
BEGIN:VEVENT
DTSTART;VALUE=DATE:20210924
DTEND;VALUE=DATE:20210925
DTSTAMP:20260420T165138
CREATED:20210903T201428Z
LAST-MODIFIED:20210924T205946Z
UID:24693-1632441600-1632527999@hhs.helenaschools.org
SUMMARY:HHS Boys Soccer vs Glacier – Home
DESCRIPTION:
URL:https://hhs.helenaschools.org/event/hhs-boys-soccer-vs-glacier-home/
CATEGORIES:Helena High Boys Soccer
END:VEVENT
BEGIN:VEVENT
DTSTART;VALUE=DATE:20210914
DTEND;VALUE=DATE:20210916
DTSTAMP:20260420T165138
CREATED:20210903T201427Z
LAST-MODIFIED:20210914T204437Z
UID:24688-1631577600-1631750399@hhs.helenaschools.org
SUMMARY:HHS Boys Soccer vs. Capital High – Home
DESCRIPTION:
URL:https://hhs.helenaschools.org/event/hhs-boys-soccer-vs-capital-high-home/
CATEGORIES:Helena High Boys Soccer
END:VEVENT
BEGIN:VEVENT
DTSTART;VALUE=DATE:20210911
DTEND;VALUE=DATE:20210912
DTSTAMP:20260420T165138
CREATED:20210903T201426Z
LAST-MODIFIED:20210911T203645Z
UID:24685-1631318400-1631404799@hhs.helenaschools.org
SUMMARY:HHS Boys Soccer vs Hellgate – Home
DESCRIPTION:
URL:https://hhs.helenaschools.org/event/hhs-boys-soccer-vs-hellgate-home/
CATEGORIES:Helena High Boys Soccer
END:VEVENT
BEGIN:VEVENT
DTSTART;VALUE=DATE:20210909
DTEND;VALUE=DATE:20210910
DTSTAMP:20260420T165138
CREATED:20210903T201426Z
LAST-MODIFIED:20210909T202915Z
UID:24682-1631145600-1631231999@hhs.helenaschools.org
SUMMARY:HHS Boys Soccer vs Big Sky – Away
DESCRIPTION:
URL:https://hhs.helenaschools.org/event/hhs-boys-soccer-vs-big-sky-away/
CATEGORIES:Helena High Boys Soccer
END:VEVENT
BEGIN:VEVENT
DTSTART;VALUE=DATE:20210904
DTEND;VALUE=DATE:20210905
DTSTAMP:20260420T165138
CREATED:20210903T201425Z
LAST-MODIFIED:20210904T201630Z
UID:24679-1630713600-1630799999@hhs.helenaschools.org
SUMMARY:HHS High Boys Soccer vs Sentinel – Home
DESCRIPTION:
URL:https://hhs.helenaschools.org/event/hhs-high-boys-soccer-vs-sentinel-home/
CATEGORIES:Helena High Boys Soccer
END:VEVENT
BEGIN:VEVENT
DTSTART;VALUE=DATE:20201031
DTEND;VALUE=DATE:20201101
DTSTAMP:20260420T165138
CREATED:20201030T153145Z
LAST-MODIFIED:20201030T153145Z
UID:23176-1604102400-1604188799@hhs.helenaschools.org
SUMMARY:Boys Soccer State Championship
DESCRIPTION:
URL:https://hhs.helenaschools.org/event/boys-soccer-state-championship/
LOCATION:To be Determined\, Helena\, MT\, 59601\, United States
CATEGORIES:Activities,Capital High Boys Soccer,Capital High School Activities,Helena High Activities,Helena High Boys Soccer
END:VEVENT
END:VCALENDAR