BEGIN:VCALENDAR
VERSION:2.0
PRODID:-//Helena High School - ECPv6.15.20//NONSGML v1.0//EN
CALSCALE:GREGORIAN
METHOD:PUBLISH
X-ORIGINAL-URL:https://hhs.helenaschools.org
X-WR-CALDESC:Events for Helena High School
REFRESH-INTERVAL;VALUE=DURATION:PT1H
X-Robots-Tag:noindex
X-PUBLISHED-TTL:PT1H
BEGIN:VTIMEZONE
TZID:America/Denver
BEGIN:DAYLIGHT
TZOFFSETFROM:-0700
TZOFFSETTO:-0600
TZNAME:MDT
DTSTART:20190310T090000
END:DAYLIGHT
BEGIN:STANDARD
TZOFFSETFROM:-0600
TZOFFSETTO:-0700
TZNAME:MST
DTSTART:20191103T080000
END:STANDARD
BEGIN:DAYLIGHT
TZOFFSETFROM:-0700
TZOFFSETTO:-0600
TZNAME:MDT
DTSTART:20200308T090000
END:DAYLIGHT
BEGIN:STANDARD
TZOFFSETFROM:-0600
TZOFFSETTO:-0700
TZNAME:MST
DTSTART:20201101T080000
END:STANDARD
BEGIN:DAYLIGHT
TZOFFSETFROM:-0700
TZOFFSETTO:-0600
TZNAME:MDT
DTSTART:20210314T090000
END:DAYLIGHT
BEGIN:STANDARD
TZOFFSETFROM:-0600
TZOFFSETTO:-0700
TZNAME:MST
DTSTART:20211107T080000
END:STANDARD
BEGIN:DAYLIGHT
TZOFFSETFROM:-0700
TZOFFSETTO:-0600
TZNAME:MDT
DTSTART:20220313T090000
END:DAYLIGHT
BEGIN:STANDARD
TZOFFSETFROM:-0600
TZOFFSETTO:-0700
TZNAME:MST
DTSTART:20221106T080000
END:STANDARD
END:VTIMEZONE
BEGIN:VEVENT
DTSTART;VALUE=DATE:20210911
DTEND;VALUE=DATE:20210912
DTSTAMP:20260420T011510
CREATED:20210903T201426Z
LAST-MODIFIED:20210911T203645Z
UID:24685-1631318400-1631404799@hhs.helenaschools.org
SUMMARY:HHS Boys Soccer vs Hellgate – Home
DESCRIPTION:
URL:https://hhs.helenaschools.org/event/hhs-boys-soccer-vs-hellgate-home/
CATEGORIES:Helena High Boys Soccer
END:VEVENT
BEGIN:VEVENT
DTSTART;VALUE=DATE:20210909
DTEND;VALUE=DATE:20210910
DTSTAMP:20260420T011510
CREATED:20210903T201426Z
LAST-MODIFIED:20210909T202915Z
UID:24682-1631145600-1631231999@hhs.helenaschools.org
SUMMARY:HHS Boys Soccer vs Big Sky – Away
DESCRIPTION:
URL:https://hhs.helenaschools.org/event/hhs-boys-soccer-vs-big-sky-away/
CATEGORIES:Helena High Boys Soccer
END:VEVENT
BEGIN:VEVENT
DTSTART;VALUE=DATE:20210904
DTEND;VALUE=DATE:20210905
DTSTAMP:20260420T011510
CREATED:20210903T201425Z
LAST-MODIFIED:20210904T201630Z
UID:24679-1630713600-1630799999@hhs.helenaschools.org
SUMMARY:HHS High Boys Soccer vs Sentinel – Home
DESCRIPTION:
URL:https://hhs.helenaschools.org/event/hhs-high-boys-soccer-vs-sentinel-home/
CATEGORIES:Helena High Boys Soccer
END:VEVENT
BEGIN:VEVENT
DTSTART;VALUE=DATE:20201031
DTEND;VALUE=DATE:20201101
DTSTAMP:20260420T011510
CREATED:20201030T153145Z
LAST-MODIFIED:20201030T153145Z
UID:23176-1604102400-1604188799@hhs.helenaschools.org
SUMMARY:Boys Soccer State Championship
DESCRIPTION:
URL:https://hhs.helenaschools.org/event/boys-soccer-state-championship/
LOCATION:To be Determined\, Helena\, MT\, 59601\, United States
CATEGORIES:Activities,Capital High Boys Soccer,Capital High School Activities,Helena High Activities,Helena High Boys Soccer
END:VEVENT
END:VCALENDAR