BEGIN:VCALENDAR
VERSION:2.0
PRODID:-//Helena High School - ECPv6.15.20//NONSGML v1.0//EN
CALSCALE:GREGORIAN
METHOD:PUBLISH
X-ORIGINAL-URL:https://hhs.helenaschools.org
X-WR-CALDESC:Events for Helena High School
REFRESH-INTERVAL;VALUE=DURATION:PT1H
X-Robots-Tag:noindex
X-PUBLISHED-TTL:PT1H
BEGIN:VTIMEZONE
TZID:America/Denver
BEGIN:DAYLIGHT
TZOFFSETFROM:-0700
TZOFFSETTO:-0600
TZNAME:MDT
DTSTART:20200308T090000
END:DAYLIGHT
BEGIN:STANDARD
TZOFFSETFROM:-0600
TZOFFSETTO:-0700
TZNAME:MST
DTSTART:20201101T080000
END:STANDARD
BEGIN:DAYLIGHT
TZOFFSETFROM:-0700
TZOFFSETTO:-0600
TZNAME:MDT
DTSTART:20210314T090000
END:DAYLIGHT
BEGIN:STANDARD
TZOFFSETFROM:-0600
TZOFFSETTO:-0700
TZNAME:MST
DTSTART:20211107T080000
END:STANDARD
BEGIN:DAYLIGHT
TZOFFSETFROM:-0700
TZOFFSETTO:-0600
TZNAME:MDT
DTSTART:20220313T090000
END:DAYLIGHT
BEGIN:STANDARD
TZOFFSETFROM:-0600
TZOFFSETTO:-0700
TZNAME:MST
DTSTART:20221106T080000
END:STANDARD
BEGIN:DAYLIGHT
TZOFFSETFROM:-0700
TZOFFSETTO:-0600
TZNAME:MDT
DTSTART:20230312T090000
END:DAYLIGHT
BEGIN:STANDARD
TZOFFSETFROM:-0600
TZOFFSETTO:-0700
TZNAME:MST
DTSTART:20231105T080000
END:STANDARD
END:VTIMEZONE
BEGIN:VEVENT
DTSTART;TZID=America/Denver:20221020T180000
DTEND;TZID=America/Denver:20221020T200000
DTSTAMP:20260420T083049
CREATED:20220920T152944Z
LAST-MODIFIED:20221020T190117Z
UID:26815-1666288800-1666296000@hhs.helenaschools.org
SUMMARY:Helena High – JV Football VS Capital High
DESCRIPTION:Home
URL:https://hhs.helenaschools.org/event/helena-high-jv-football-vs-capital-high/
CATEGORIES:Helena High Football - Junior Varsity
END:VEVENT
BEGIN:VEVENT
DTSTART;TZID=America/Denver:20221014T150000
DTEND;TZID=America/Denver:20221014T170000
DTSTAMP:20260420T083049
CREATED:20220914T151539Z
LAST-MODIFIED:20221014T173352Z
UID:26793-1665759600-1665766800@hhs.helenaschools.org
SUMMARY:Helena High – JV Football VS Big Sky
DESCRIPTION:Away
URL:https://hhs.helenaschools.org/event/helena-high-jv-football-vs-big-sky/
CATEGORIES:Helena High Football - Junior Varsity
END:VEVENT
BEGIN:VEVENT
DTSTART;TZID=America/Denver:20221007T150000
DTEND;TZID=America/Denver:20221007T170000
DTSTAMP:20260420T083049
CREATED:20220909T144453Z
LAST-MODIFIED:20221007T163012Z
UID:26764-1665154800-1665162000@hhs.helenaschools.org
SUMMARY:Helena High – JV Football VS Flathead
DESCRIPTION:Home
URL:https://hhs.helenaschools.org/event/helena-high-jv-football-vs-flathead/
CATEGORIES:Helena High Football - Junior Varsity
END:VEVENT
BEGIN:VEVENT
DTSTART;TZID=America/Denver:20220930T150000
DTEND;TZID=America/Denver:20220930T170000
DTSTAMP:20260420T083049
CREATED:20220909T144453Z
LAST-MODIFIED:20220930T161412Z
UID:26761-1664550000-1664557200@hhs.helenaschools.org
SUMMARY:Helena High – JV Football VS Glacier
DESCRIPTION:Away
URL:https://hhs.helenaschools.org/event/helena-high-jv-football-vs-glacier/
CATEGORIES:Helena High Football - Junior Varsity
END:VEVENT
BEGIN:VEVENT
DTSTART;TZID=America/Denver:20220923T150000
DTEND;TZID=America/Denver:20220923T170000
DTSTAMP:20260420T083049
CREATED:20220909T144452Z
LAST-MODIFIED:20220923T152913Z
UID:26757-1663945200-1663952400@hhs.helenaschools.org
SUMMARY:Helena High – JV Football VS Sentinel
DESCRIPTION:Away
URL:https://hhs.helenaschools.org/event/helena-high-jv-football-vs-sentinel/
CATEGORIES:Helena High Football - Junior Varsity
END:VEVENT
BEGIN:VEVENT
DTSTART;TZID=America/Denver:20220915T150000
DTEND;TZID=America/Denver:20220915T170000
DTSTAMP:20260420T083049
CREATED:20220909T144452Z
LAST-MODIFIED:20220915T151408Z
UID:26753-1663254000-1663261200@hhs.helenaschools.org
SUMMARY:Helena High – JV Football VS Hellgate
DESCRIPTION:Home
URL:https://hhs.helenaschools.org/event/helena-high-jv-football-vs-hellgate/
CATEGORIES:Helena High Football - Junior Varsity
END:VEVENT
BEGIN:VEVENT
DTSTART;TZID=America/Denver:20220909T150000
DTEND;TZID=America/Denver:20220909T170000
DTSTAMP:20260420T083049
CREATED:20220909T144452Z
LAST-MODIFIED:20220909T144452Z
UID:26750-1662735600-1662742800@hhs.helenaschools.org
SUMMARY:Helena High – JV Football VS Butte
DESCRIPTION:Home
URL:https://hhs.helenaschools.org/event/helena-high-jv-football-vs-butte/
CATEGORIES:Helena High Football - Junior Varsity
END:VEVENT
BEGIN:VEVENT
DTSTART;VALUE=DATE:20211022
DTEND;VALUE=DATE:20211023
DTSTAMP:20260420T083049
CREATED:20210922T204418Z
LAST-MODIFIED:20211022T175942Z
UID:24892-1634860800-1634947199@hhs.helenaschools.org
SUMMARY:HHS Junior Varsity Football vs Capital – Away
DESCRIPTION:
URL:https://hhs.helenaschools.org/event/hhs-junior-varsity-football-vs-capital-away/
CATEGORIES:Helena High Football - Junior Varsity
END:VEVENT
BEGIN:VEVENT
DTSTART;VALUE=DATE:20211015
DTEND;VALUE=DATE:20211016
DTSTAMP:20260420T083049
CREATED:20210915T204439Z
LAST-MODIFIED:20211015T174557Z
UID:24815-1634256000-1634342399@hhs.helenaschools.org
SUMMARY:HHS Junior Varsity Football vs Big Sky – Home
DESCRIPTION:
URL:https://hhs.helenaschools.org/event/hhs-junior-varsity-football-vs-big-sky-home/
CATEGORIES:Helena High Football - Junior Varsity
END:VEVENT
BEGIN:VEVENT
DTSTART;VALUE=DATE:20211008
DTEND;VALUE=DATE:20211009
DTSTAMP:20260420T083049
CREATED:20210915T204438Z
LAST-MODIFIED:20211008T162607Z
UID:24812-1633651200-1633737599@hhs.helenaschools.org
SUMMARY:HHS Junior Varsity Football vs Flathead – Away
DESCRIPTION:
URL:https://hhs.helenaschools.org/event/hhs-junior-varsity-football-vs-flathead-away/
CATEGORIES:Helena High Football - Junior Varsity
END:VEVENT
BEGIN:VEVENT
DTSTART;VALUE=DATE:20211001
DTEND;VALUE=DATE:20211002
DTSTAMP:20260420T083049
CREATED:20210915T204437Z
LAST-MODIFIED:20211001T213001Z
UID:24811-1633046400-1633132799@hhs.helenaschools.org
SUMMARY:HHS Junior Varsity Football vs Glacier – Home
DESCRIPTION:
URL:https://hhs.helenaschools.org/event/hhs-junior-varsity-football-vs-glacier-home/
CATEGORIES:Helena High Football - Junior Varsity
END:VEVENT
BEGIN:VEVENT
DTSTART;VALUE=DATE:20210924
DTEND;VALUE=DATE:20210925
DTSTAMP:20260420T083049
CREATED:20210915T204435Z
LAST-MODIFIED:20210924T205947Z
UID:24809-1632441600-1632527999@hhs.helenaschools.org
SUMMARY:HHS Junior Varsity Football vs Sentinel – Home
DESCRIPTION:
URL:https://hhs.helenaschools.org/event/hhs-junior-varsity-football-vs-sentinel-home/
CATEGORIES:Helena High Football - Junior Varsity
END:VEVENT
BEGIN:VEVENT
DTSTART;VALUE=DATE:20210917
DTEND;VALUE=DATE:20210918
DTSTAMP:20260420T083049
CREATED:20210915T204433Z
LAST-MODIFIED:20210917T204421Z
UID:24806-1631836800-1631923199@hhs.helenaschools.org
SUMMARY:HHS Junior Varsity Football vs Hellgate – Away
DESCRIPTION:
URL:https://hhs.helenaschools.org/event/hhs-junior-varsity-football-vs-hellgate-away/
CATEGORIES:Helena High Football - Junior Varsity
END:VEVENT
END:VCALENDAR