BEGIN:VCALENDAR
VERSION:2.0
PRODID:-//Helena High School - ECPv6.15.20//NONSGML v1.0//EN
CALSCALE:GREGORIAN
METHOD:PUBLISH
X-ORIGINAL-URL:https://hhs.helenaschools.org
X-WR-CALDESC:Events for Helena High School
REFRESH-INTERVAL;VALUE=DURATION:PT1H
X-Robots-Tag:noindex
X-PUBLISHED-TTL:PT1H
BEGIN:VTIMEZONE
TZID:America/Denver
BEGIN:DAYLIGHT
TZOFFSETFROM:-0700
TZOFFSETTO:-0600
TZNAME:MDT
DTSTART:20200308T090000
END:DAYLIGHT
BEGIN:STANDARD
TZOFFSETFROM:-0600
TZOFFSETTO:-0700
TZNAME:MST
DTSTART:20201101T080000
END:STANDARD
BEGIN:DAYLIGHT
TZOFFSETFROM:-0700
TZOFFSETTO:-0600
TZNAME:MDT
DTSTART:20210314T090000
END:DAYLIGHT
BEGIN:STANDARD
TZOFFSETFROM:-0600
TZOFFSETTO:-0700
TZNAME:MST
DTSTART:20211107T080000
END:STANDARD
BEGIN:DAYLIGHT
TZOFFSETFROM:-0700
TZOFFSETTO:-0600
TZNAME:MDT
DTSTART:20220313T090000
END:DAYLIGHT
BEGIN:STANDARD
TZOFFSETFROM:-0600
TZOFFSETTO:-0700
TZNAME:MST
DTSTART:20221106T080000
END:STANDARD
BEGIN:DAYLIGHT
TZOFFSETFROM:-0700
TZOFFSETTO:-0600
TZNAME:MDT
DTSTART:20230312T090000
END:DAYLIGHT
BEGIN:STANDARD
TZOFFSETFROM:-0600
TZOFFSETTO:-0700
TZNAME:MST
DTSTART:20231105T080000
END:STANDARD
END:VTIMEZONE
BEGIN:VEVENT
DTSTART;VALUE=DATE:20221118
DTEND;VALUE=DATE:20221119
DTSTAMP:20260423T015956
CREATED:20221019T190046Z
LAST-MODIFIED:20221118T210053Z
UID:26914-1668729600-1668815999@hhs.helenaschools.org
SUMMARY:Championship
DESCRIPTION:
URL:https://hhs.helenaschools.org/event/championship/
CATEGORIES:Helena High Football - Varsity
END:VEVENT
BEGIN:VEVENT
DTSTART;VALUE=DATE:20221111
DTEND;VALUE=DATE:20221112
DTSTAMP:20260423T015956
CREATED:20221012T165914Z
LAST-MODIFIED:20221111T184451Z
UID:26886-1668124800-1668211199@hhs.helenaschools.org
SUMMARY:3rd Round Playoff
DESCRIPTION:
URL:https://hhs.helenaschools.org/event/3rd-round-playoff/
CATEGORIES:Helena High Football - Varsity
END:VEVENT
BEGIN:VEVENT
DTSTART;VALUE=DATE:20221104
DTEND;VALUE=DATE:20221105
DTSTAMP:20260423T015956
CREATED:20221005T163036Z
LAST-MODIFIED:20221104T165917Z
UID:26864-1667520000-1667606399@hhs.helenaschools.org
SUMMARY:2nd Round Playoff
DESCRIPTION:Tickets\n \n 
URL:https://hhs.helenaschools.org/event/2nd-round-playoff/
CATEGORIES:Helena High Football - Varsity
END:VEVENT
BEGIN:VEVENT
DTSTART;VALUE=DATE:20221028
DTEND;VALUE=DATE:20221029
DTSTAMP:20260423T015956
CREATED:20220928T161436Z
LAST-MODIFIED:20221028T202857Z
UID:26840-1666915200-1667001599@hhs.helenaschools.org
SUMMARY:1st Round Playoff
DESCRIPTION:
URL:https://hhs.helenaschools.org/event/1st-round-playoff/
CATEGORIES:Helena High Football - Varsity
END:VEVENT
BEGIN:VEVENT
DTSTART;TZID=America/Denver:20221021T190000
DTEND;TZID=America/Denver:20221021T210000
DTSTAMP:20260423T015956
CREATED:20220921T152926Z
LAST-MODIFIED:20221021T190724Z
UID:26822-1666378800-1666386000@hhs.helenaschools.org
SUMMARY:Helena High – Varsity Football VS Capital High
DESCRIPTION:Home
URL:https://hhs.helenaschools.org/event/helena-high-varsity-football-vs-capital-high/
CATEGORIES:Helena High Football - Varsity
END:VEVENT
BEGIN:VEVENT
DTSTART;TZID=America/Denver:20221014T190000
DTEND;TZID=America/Denver:20221014T210000
DTSTAMP:20260423T015956
CREATED:20220914T151539Z
LAST-MODIFIED:20221014T173352Z
UID:26794-1665774000-1665781200@hhs.helenaschools.org
SUMMARY:Helena High – Varsity Football VS Big Sky
DESCRIPTION:Away
URL:https://hhs.helenaschools.org/event/helena-high-varsity-football-vs-big-sky/
CATEGORIES:Helena High Football - Varsity
END:VEVENT
BEGIN:VEVENT
DTSTART;TZID=America/Denver:20221007T190000
DTEND;TZID=America/Denver:20221007T210000
DTSTAMP:20260423T015956
CREATED:20220909T144453Z
LAST-MODIFIED:20221007T163012Z
UID:26765-1665169200-1665176400@hhs.helenaschools.org
SUMMARY:Helena High – Varsity Football VS Flathead
DESCRIPTION:Home
URL:https://hhs.helenaschools.org/event/helena-high-varsity-football-vs-flathead/
CATEGORIES:Helena High Football - Varsity
END:VEVENT
BEGIN:VEVENT
DTSTART;TZID=America/Denver:20220930T190000
DTEND;TZID=America/Denver:20220930T210000
DTSTAMP:20260423T015956
CREATED:20220909T144453Z
LAST-MODIFIED:20220930T161412Z
UID:26762-1664564400-1664571600@hhs.helenaschools.org
SUMMARY:Helena High – Varsity Football VS Glacier
DESCRIPTION:Away
URL:https://hhs.helenaschools.org/event/helena-high-varsity-football-vs-glacier/
CATEGORIES:Helena High Football - Varsity
END:VEVENT
BEGIN:VEVENT
DTSTART;TZID=America/Denver:20220923T190000
DTEND;TZID=America/Denver:20220923T210000
DTSTAMP:20260423T015956
CREATED:20220909T144452Z
LAST-MODIFIED:20220923T152913Z
UID:26759-1663959600-1663966800@hhs.helenaschools.org
SUMMARY:Helena High – Varsity Football VS Sentinel
DESCRIPTION:Away
URL:https://hhs.helenaschools.org/event/helena-high-varsity-football-vs-sentinel/
CATEGORIES:Helena High Football - Varsity
END:VEVENT
BEGIN:VEVENT
DTSTART;TZID=America/Denver:20220915T190000
DTEND;TZID=America/Denver:20220915T210000
DTSTAMP:20260423T015956
CREATED:20220909T144452Z
LAST-MODIFIED:20220915T151408Z
UID:26754-1663268400-1663275600@hhs.helenaschools.org
SUMMARY:Helena High – Varsity Football VS Hellgate
DESCRIPTION:Home
URL:https://hhs.helenaschools.org/event/helena-high-varsity-football-vs-hellgate/
CATEGORIES:Helena High Football - Varsity
END:VEVENT
BEGIN:VEVENT
DTSTART;TZID=America/Denver:20220909T190000
DTEND;TZID=America/Denver:20220909T210000
DTSTAMP:20260423T015956
CREATED:20220909T144452Z
LAST-MODIFIED:20220909T144452Z
UID:26751-1662750000-1662757200@hhs.helenaschools.org
SUMMARY:Helena High – Varsity Football VS Butte
DESCRIPTION:Home
URL:https://hhs.helenaschools.org/event/helena-high-varsity-football-vs-butte/
CATEGORIES:Helena High Football - Varsity
END:VEVENT
BEGIN:VEVENT
DTSTART;VALUE=DATE:20211022
DTEND;VALUE=DATE:20211023
DTSTAMP:20260423T015956
CREATED:20210922T204418Z
LAST-MODIFIED:20211022T175942Z
UID:24891-1634860800-1634947199@hhs.helenaschools.org
SUMMARY:HHS Varsity Football vs Capital – Away
DESCRIPTION:
URL:https://hhs.helenaschools.org/event/hhs-varsity-football-vs-capital-away/
CATEGORIES:Helena High Football - Varsity
END:VEVENT
BEGIN:VEVENT
DTSTART;VALUE=DATE:20211015
DTEND;VALUE=DATE:20211016
DTSTAMP:20260423T015956
CREATED:20210915T204439Z
LAST-MODIFIED:20211015T174557Z
UID:24814-1634256000-1634342399@hhs.helenaschools.org
SUMMARY:HHS Varsity Football vs Big Sky – Home
DESCRIPTION:
URL:https://hhs.helenaschools.org/event/hhs-varsity-football-vs-big-sky-home/
CATEGORIES:Helena High Football - Varsity
END:VEVENT
BEGIN:VEVENT
DTSTART;VALUE=DATE:20211008
DTEND;VALUE=DATE:20211009
DTSTAMP:20260423T015956
CREATED:20210914T204442Z
LAST-MODIFIED:20211008T162607Z
UID:24796-1633651200-1633737599@hhs.helenaschools.org
SUMMARY:HHS Varsity Football vs Flathead – Away
DESCRIPTION:
URL:https://hhs.helenaschools.org/event/hhs-varsity-football-vs-flathead-away/
CATEGORIES:Helena High Football - Varsity
END:VEVENT
BEGIN:VEVENT
DTSTART;VALUE=DATE:20211001
DTEND;VALUE=DATE:20211002
DTSTAMP:20260423T015956
CREATED:20210914T204441Z
LAST-MODIFIED:20211001T213000Z
UID:24795-1633046400-1633132799@hhs.helenaschools.org
SUMMARY:HHS Varsity Football vs Glacier – Home
DESCRIPTION:
URL:https://hhs.helenaschools.org/event/hhs-varsity-football-vs-glacier-home/
CATEGORIES:Helena High Football - Varsity
END:VEVENT
BEGIN:VEVENT
DTSTART;VALUE=DATE:20210924
DTEND;VALUE=DATE:20210925
DTSTAMP:20260423T015956
CREATED:20210914T204439Z
LAST-MODIFIED:20210924T205947Z
UID:24794-1632441600-1632527999@hhs.helenaschools.org
SUMMARY:HHS Varsity Football vs Sentinel – Home
DESCRIPTION:
URL:https://hhs.helenaschools.org/event/hhs-varsity-football-vs-sentinel-home/
CATEGORIES:Helena High Football - Varsity
END:VEVENT
BEGIN:VEVENT
DTSTART;VALUE=DATE:20210917
DTEND;VALUE=DATE:20210918
DTSTAMP:20260423T015956
CREATED:20210914T204438Z
LAST-MODIFIED:20210917T204421Z
UID:24793-1631836800-1631923199@hhs.helenaschools.org
SUMMARY:HHS Varsity Football vs Hellgate – Away
DESCRIPTION:
URL:https://hhs.helenaschools.org/event/hhs-varsity-football-vs-hellgate-away/
CATEGORIES:Helena High Football - Varsity
END:VEVENT
END:VCALENDAR