BEGIN:VCALENDAR
VERSION:2.0
PRODID:-//Helena High School - ECPv6.15.20//NONSGML v1.0//EN
CALSCALE:GREGORIAN
METHOD:PUBLISH
X-WR-CALNAME:Helena High School
X-ORIGINAL-URL:https://hhs.helenaschools.org
X-WR-CALDESC:Events for Helena High School
REFRESH-INTERVAL;VALUE=DURATION:PT1H
X-Robots-Tag:noindex
X-PUBLISHED-TTL:PT1H
BEGIN:VTIMEZONE
TZID:America/Denver
BEGIN:DAYLIGHT
TZOFFSETFROM:-0700
TZOFFSETTO:-0600
TZNAME:MDT
DTSTART:20190310T090000
END:DAYLIGHT
BEGIN:STANDARD
TZOFFSETFROM:-0600
TZOFFSETTO:-0700
TZNAME:MST
DTSTART:20191103T080000
END:STANDARD
BEGIN:DAYLIGHT
TZOFFSETFROM:-0700
TZOFFSETTO:-0600
TZNAME:MDT
DTSTART:20200308T090000
END:DAYLIGHT
BEGIN:STANDARD
TZOFFSETFROM:-0600
TZOFFSETTO:-0700
TZNAME:MST
DTSTART:20201101T080000
END:STANDARD
BEGIN:DAYLIGHT
TZOFFSETFROM:-0700
TZOFFSETTO:-0600
TZNAME:MDT
DTSTART:20210314T090000
END:DAYLIGHT
BEGIN:STANDARD
TZOFFSETFROM:-0600
TZOFFSETTO:-0700
TZNAME:MST
DTSTART:20211107T080000
END:STANDARD
BEGIN:DAYLIGHT
TZOFFSETFROM:-0700
TZOFFSETTO:-0600
TZNAME:MDT
DTSTART:20220313T090000
END:DAYLIGHT
BEGIN:STANDARD
TZOFFSETFROM:-0600
TZOFFSETTO:-0700
TZNAME:MST
DTSTART:20221106T080000
END:STANDARD
END:VTIMEZONE
BEGIN:VEVENT
DTSTART;TZID=America/Denver:20211022T190000
DTEND;TZID=America/Denver:20211022T190000
DTSTAMP:20260424T080248
CREATED:20210821T191426Z
LAST-MODIFIED:20210829T194644Z
UID:24593-1634929200-1634929200@hhs.helenaschools.org
SUMMARY:HHS v Capital (Away)
DESCRIPTION:
URL:https://hhs.helenaschools.org/event/hhs-v-capital-away/
CATEGORIES:Activities,Helena High Activities,Helena High Football
END:VEVENT
BEGIN:VEVENT
DTSTART;TZID=America/Denver:20211015T190000
DTEND;TZID=America/Denver:20211015T190000
DTSTAMP:20260424T080248
CREATED:20210821T191425Z
LAST-MODIFIED:20210829T194643Z
UID:24589-1634324400-1634324400@hhs.helenaschools.org
SUMMARY:HHS v Big Sky (Home)
DESCRIPTION:
URL:https://hhs.helenaschools.org/event/hhs-v-big-sky-home/
LOCATION:Vigilante Stadium\, 1025 N. Rodney\, Helena\, MT\, 59601\, United States
CATEGORIES:Activities,Helena High Activities,Helena High Football
END:VEVENT
BEGIN:VEVENT
DTSTART;TZID=America/Denver:20211008T190000
DTEND;TZID=America/Denver:20211008T190000
DTSTAMP:20260424T080248
CREATED:20210821T191426Z
LAST-MODIFIED:20210829T194644Z
UID:24592-1633719600-1633719600@hhs.helenaschools.org
SUMMARY:HHS v Flathead (Away)
DESCRIPTION:
URL:https://hhs.helenaschools.org/event/hhs-v-flathead-away/
CATEGORIES:Activities,Helena High Activities,Helena High Football
END:VEVENT
BEGIN:VEVENT
DTSTART;TZID=America/Denver:20211001T190000
DTEND;TZID=America/Denver:20211001T190000
DTSTAMP:20260424T080248
CREATED:20210821T191425Z
LAST-MODIFIED:20210829T194643Z
UID:24588-1633114800-1633114800@hhs.helenaschools.org
SUMMARY:HHS v Glacier (Home)
DESCRIPTION:
URL:https://hhs.helenaschools.org/event/hhs-v-glacier-home/
LOCATION:Vigilante Stadium\, 1025 N. Rodney\, Helena\, MT\, 59601\, United States
CATEGORIES:Activities,Helena High Activities,Helena High Football
END:VEVENT
BEGIN:VEVENT
DTSTART;TZID=America/Denver:20210917T190000
DTEND;TZID=America/Denver:20210917T190000
DTSTAMP:20260424T080248
CREATED:20210821T191426Z
LAST-MODIFIED:20210829T194644Z
UID:24591-1631905200-1631905200@hhs.helenaschools.org
SUMMARY:HHS v Hellgate (Away)
DESCRIPTION:
URL:https://hhs.helenaschools.org/event/hhs-v-hellgate-away/
CATEGORIES:Activities,Helena High Football
END:VEVENT
BEGIN:VEVENT
DTSTART;TZID=America/Denver:20210910T190000
DTEND;TZID=America/Denver:20210910T190000
DTSTAMP:20260424T080248
CREATED:20210821T191426Z
LAST-MODIFIED:20210829T194644Z
UID:24590-1631300400-1631300400@hhs.helenaschools.org
SUMMARY:HHS v Butte (away)
DESCRIPTION:
URL:https://hhs.helenaschools.org/event/hhs-v-butte-away/
CATEGORIES:Activities,Helena High Activities,Helena High Football
END:VEVENT
BEGIN:VEVENT
DTSTART;TZID=America/Denver:20210903T190000
DTEND;TZID=America/Denver:20210903T190000
DTSTAMP:20260424T080248
CREATED:20210821T191425Z
LAST-MODIFIED:20210829T194643Z
UID:24587-1630695600-1630695600@hhs.helenaschools.org
SUMMARY:HHS Senior
DESCRIPTION:
URL:https://hhs.helenaschools.org/event/hhs-senior/
LOCATION:Vigilante Stadium\, 1025 N. Rodney\, Helena\, MT\, 59601\, United States
CATEGORIES:Activities,Helena High Activities,Helena High Football
END:VEVENT
BEGIN:VEVENT
DTSTART;TZID=America/Denver:20210827T190000
DTEND;TZID=America/Denver:20210827T190000
DTSTAMP:20260424T080248
CREATED:20210821T191425Z
LAST-MODIFIED:20210827T193034Z
UID:24586-1630090800-1630090800@hhs.helenaschools.org
SUMMARY:HHS v Great Falls (Away)
DESCRIPTION:
URL:https://hhs.helenaschools.org/event/hhs-v-great-falls-away/
CATEGORIES:Activities,Helena High Activities,Helena High Football
END:VEVENT
BEGIN:VEVENT
DTSTART;TZID=America/Denver:20210824T190000
DTEND;TZID=America/Denver:20210824T190000
DTSTAMP:20260424T080248
CREATED:20210821T191425Z
LAST-MODIFIED:20210824T191522Z
UID:24585-1629831600-1629831600@hhs.helenaschools.org
SUMMARY:HHS v Sentinel (Home)
DESCRIPTION:
URL:https://hhs.helenaschools.org/event/hhs-v-sentinel-home/
LOCATION:Vigilante Stadium\, 1025 N. Rodney\, Helena\, MT\, 59601\, United States
CATEGORIES:Activities,Helena High Activities,Helena High Football
END:VEVENT
BEGIN:VEVENT
DTSTART;VALUE=DATE:20201113
DTEND;VALUE=DATE:20201114
DTSTAMP:20260424T080248
CREATED:20201030T153145Z
LAST-MODIFIED:20201030T153145Z
UID:23181-1605225600-1605311999@hhs.helenaschools.org
SUMMARY:Football Third Round of Playoffs
DESCRIPTION:
URL:https://hhs.helenaschools.org/event/football-third-round-of-playoffs/
LOCATION:To be Determined\, Helena\, MT\, 59601\, United States
CATEGORIES:Activities,Capital High Football,Capital High School Activities,Helena High Activities,Helena High Football
END:VEVENT
BEGIN:VEVENT
DTSTART;VALUE=DATE:20201106
DTEND;VALUE=DATE:20201107
DTSTAMP:20260424T080248
CREATED:20201030T153145Z
LAST-MODIFIED:20201030T153145Z
UID:23179-1604620800-1604707199@hhs.helenaschools.org
SUMMARY:Football Second Round of Playoffs
DESCRIPTION:
URL:https://hhs.helenaschools.org/event/football-second-round-of-playoffs/
LOCATION:To be Determined\, Helena\, MT\, 59601\, United States
CATEGORIES:Activities,Capital High School Activities,Helena High Activities,Helena High Football
END:VEVENT
END:VCALENDAR