BEGIN:VCALENDAR
VERSION:2.0
PRODID:-//Helena High School - ECPv6.15.20//NONSGML v1.0//EN
CALSCALE:GREGORIAN
METHOD:PUBLISH
X-WR-CALNAME:Helena High School
X-ORIGINAL-URL:https://hhs.helenaschools.org
X-WR-CALDESC:Events for Helena High School
REFRESH-INTERVAL;VALUE=DURATION:PT1H
X-Robots-Tag:noindex
X-PUBLISHED-TTL:PT1H
BEGIN:VTIMEZONE
TZID:America/Denver
BEGIN:DAYLIGHT
TZOFFSETFROM:-0700
TZOFFSETTO:-0600
TZNAME:MDT
DTSTART:20200308T090000
END:DAYLIGHT
BEGIN:STANDARD
TZOFFSETFROM:-0600
TZOFFSETTO:-0700
TZNAME:MST
DTSTART:20201101T080000
END:STANDARD
BEGIN:DAYLIGHT
TZOFFSETFROM:-0700
TZOFFSETTO:-0600
TZNAME:MDT
DTSTART:20210314T090000
END:DAYLIGHT
BEGIN:STANDARD
TZOFFSETFROM:-0600
TZOFFSETTO:-0700
TZNAME:MST
DTSTART:20211107T080000
END:STANDARD
BEGIN:DAYLIGHT
TZOFFSETFROM:-0700
TZOFFSETTO:-0600
TZNAME:MDT
DTSTART:20220313T090000
END:DAYLIGHT
BEGIN:STANDARD
TZOFFSETFROM:-0600
TZOFFSETTO:-0700
TZNAME:MST
DTSTART:20221106T080000
END:STANDARD
END:VTIMEZONE
BEGIN:VEVENT
DTSTART;VALUE=DATE:20211030
DTEND;VALUE=DATE:20211031
DTSTAMP:20260421T012355
CREATED:20210930T211640Z
LAST-MODIFIED:20211007T154418Z
UID:24949-1635552000-1635638399@hhs.helenaschools.org
SUMMARY:CHS Boys Soccer – State Championship
DESCRIPTION:
URL:https://hhs.helenaschools.org/event/chs-boys-soccer-state-championship-2/
LOCATION:MT
CATEGORIES:Capital High Boys Soccer
END:VEVENT
BEGIN:VEVENT
DTSTART;VALUE=DATE:20211030
DTEND;VALUE=DATE:20211031
DTSTAMP:20260421T012355
CREATED:20210930T211640Z
LAST-MODIFIED:20211007T154418Z
UID:24950-1635552000-1635638399@hhs.helenaschools.org
SUMMARY:CHS Girls Soccer – State Championship
DESCRIPTION:
URL:https://hhs.helenaschools.org/event/chs-girls-soccer-state-championship/
LOCATION:MT
CATEGORIES:Capital High Girls Soccer
END:VEVENT
BEGIN:VEVENT
DTSTART;VALUE=DATE:20211028
DTEND;VALUE=DATE:20211029
DTSTAMP:20260421T012355
CREATED:20210928T211610Z
LAST-MODIFIED:20211028T181512Z
UID:24942-1635379200-1635465599@hhs.helenaschools.org
SUMMARY:HHS Volleyball vs Butte – Away
DESCRIPTION:
URL:https://hhs.helenaschools.org/event/hhs-volleyball-vs-butte-away/
LOCATION:MT
CATEGORIES:Helena High Volleyball
END:VEVENT
BEGIN:VEVENT
DTSTART;VALUE=DATE:20211028
DTEND;VALUE=DATE:20211029
DTSTAMP:20260421T012355
CREATED:20210928T211610Z
LAST-MODIFIED:20211007T154418Z
UID:24943-1635379200-1635465599@hhs.helenaschools.org
SUMMARY:CHS Volleyball vs Sentinel – Away
DESCRIPTION:
URL:https://hhs.helenaschools.org/event/chs-volleyball-vs-sentinel-away/
LOCATION:MT
CATEGORIES:Capital High Volleyball
END:VEVENT
BEGIN:VEVENT
DTSTART;TZID=America/Denver:20211026T153000
DTEND;TZID=America/Denver:20211026T190000
DTSTAMP:20260421T012355
CREATED:20210926T211428Z
LAST-MODIFIED:20211026T112935Z
UID:24933-1635262200-1635274800@hhs.helenaschools.org
SUMMARY:Board of Trustees Work Session 10.26.21 Capital High School
DESCRIPTION:
URL:https://hhs.helenaschools.org/event/board-of-trustees-work-session-10-26-21-capital-high-school/
LOCATION:Capital High School\, 100 Valley Dr.\, Helena\, MT\, 59601\, United States
CATEGORIES:Board of Trustees Meeting,Work Session
ORGANIZER;CN="Board of Trustees":MAILTO:boardoftrustees@helenaschools.org
END:VEVENT
BEGIN:VEVENT
DTSTART;TZID=America/Denver:20211026T110000
DTEND;TZID=America/Denver:20211026T120000
DTSTAMP:20260421T012355
CREATED:20210926T211435Z
LAST-MODIFIED:20211026T112935Z
UID:24938-1635246000-1635249600@hhs.helenaschools.org
SUMMARY:Executive Committee Meeting 10.26.21
DESCRIPTION:
URL:https://hhs.helenaschools.org/event/executive-committee-meeting-10-26-21/
LOCATION:May Butler Center\, 55 S Rodney Street\, Helena\, MT\, 59601\, United States
CATEGORIES:Board of Trustees Meeting,Executive Session
ORGANIZER;CN="Board of Trustees":MAILTO:boardoftrustees@helenaschools.org
END:VEVENT
BEGIN:VEVENT
DTSTART;VALUE=DATE:20211026
DTEND;VALUE=DATE:20211027
DTSTAMP:20260421T012355
CREATED:20210926T211435Z
LAST-MODIFIED:20211026T181517Z
UID:24934-1635206400-1635292799@hhs.helenaschools.org
SUMMARY:HHS Volleyball vs Sentinel – Home
DESCRIPTION:
URL:https://hhs.helenaschools.org/event/hhs-volleyball-vs-sentinel-home/
LOCATION:MT
CATEGORIES:Helena High Volleyball
END:VEVENT
BEGIN:VEVENT
DTSTART;VALUE=DATE:20211026
DTEND;VALUE=DATE:20211027
DTSTAMP:20260421T012355
CREATED:20210926T211435Z
LAST-MODIFIED:20211007T154417Z
UID:24935-1635206400-1635292799@hhs.helenaschools.org
SUMMARY:CHS Volleyball vs Butte – Home
DESCRIPTION:
URL:https://hhs.helenaschools.org/event/chs-volleyball-vs-butte-home/
LOCATION:MT
CATEGORIES:Capital High Volleyball
END:VEVENT
BEGIN:VEVENT
DTSTART;VALUE=DATE:20211026
DTEND;VALUE=DATE:20211027
DTSTAMP:20260421T012355
CREATED:20210926T211435Z
LAST-MODIFIED:20211007T154418Z
UID:24936-1635206400-1635292799@hhs.helenaschools.org
SUMMARY:CHS Boys Soccer – Semi Final
DESCRIPTION:
URL:https://hhs.helenaschools.org/event/chs-boys-soccer-semi-final/
LOCATION:MT
CATEGORIES:Capital High Boys Soccer
END:VEVENT
BEGIN:VEVENT
DTSTART;VALUE=DATE:20211026
DTEND;VALUE=DATE:20211027
DTSTAMP:20260421T012355
CREATED:20210926T211435Z
LAST-MODIFIED:20211007T154418Z
UID:24937-1635206400-1635292799@hhs.helenaschools.org
SUMMARY:CHS Girls Soccer – Semi Final
DESCRIPTION:
URL:https://hhs.helenaschools.org/event/chs-girls-soccer-semi-final/
LOCATION:MT
CATEGORIES:Capital High Girls Soccer
END:VEVENT
BEGIN:VEVENT
DTSTART;TZID=America/Denver:20211023T100000
DTEND;TZID=America/Denver:20211023T120000
DTSTAMP:20260421T012355
CREATED:20210923T204555Z
LAST-MODIFIED:20211007T154417Z
UID:24926-1634983200-1634990400@hhs.helenaschools.org
SUMMARY:CHS Frosh Football vs Helena High
DESCRIPTION:
URL:https://hhs.helenaschools.org/event/chs-frosh-football-vs-helena-high/
LOCATION:MT
CATEGORIES:Capital High Football - Frosh
END:VEVENT
BEGIN:VEVENT
DTSTART;VALUE=DATE:20211023
DTEND;VALUE=DATE:20211024
DTSTAMP:20260421T012355
CREATED:20210923T204555Z
LAST-MODIFIED:20211023T180027Z
UID:24920-1634947200-1635033599@hhs.helenaschools.org
SUMMARY:HHS Cross-Country State – Missoula
DESCRIPTION:
URL:https://hhs.helenaschools.org/event/hhs-cross-country-state-missoula/
LOCATION:MT
CATEGORIES:Activities,Helena High Activities,Helena High Cross Country
END:VEVENT
BEGIN:VEVENT
DTSTART;VALUE=DATE:20211023
DTEND;VALUE=DATE:20211024
DTSTAMP:20260421T012355
CREATED:20210923T204555Z
LAST-MODIFIED:20211007T154417Z
UID:24921-1634947200-1635033599@hhs.helenaschools.org
SUMMARY:CHS Cross Country – State – Missoula
DESCRIPTION:
URL:https://hhs.helenaschools.org/event/chs-cross-country-state-missoula/
LOCATION:MT
CATEGORIES:Capital High Cross Country
END:VEVENT
BEGIN:VEVENT
DTSTART;VALUE=DATE:20211023
DTEND;VALUE=DATE:20211024
DTSTAMP:20260421T012355
CREATED:20210923T204555Z
LAST-MODIFIED:20211007T154417Z
UID:24922-1634947200-1635033599@hhs.helenaschools.org
SUMMARY:CHS Boys Soccer – First Round
DESCRIPTION:
URL:https://hhs.helenaschools.org/event/chs-boys-soccer-first-round/
LOCATION:MT
CATEGORIES:Capital High Boys Soccer
END:VEVENT
BEGIN:VEVENT
DTSTART;VALUE=DATE:20211023
DTEND;VALUE=DATE:20211024
DTSTAMP:20260421T012355
CREATED:20210923T204555Z
LAST-MODIFIED:20211007T154417Z
UID:24924-1634947200-1635033599@hhs.helenaschools.org
SUMMARY:CHS Girls Soccer – Quarter Final
DESCRIPTION:
URL:https://hhs.helenaschools.org/event/chs-girls-soccer-quarter-final/
LOCATION:MT
CATEGORIES:Capital High Girls Soccer
END:VEVENT
BEGIN:VEVENT
DTSTART;VALUE=DATE:20211023
DTEND;VALUE=DATE:20211024
DTSTAMP:20260421T012355
CREATED:20210923T204555Z
LAST-MODIFIED:20211023T180027Z
UID:24925-1634947200-1635033599@hhs.helenaschools.org
SUMMARY:HHS Frosh Football vs Capital – Away
DESCRIPTION:
URL:https://hhs.helenaschools.org/event/hhs-frosh-football-vs-capital-away/
LOCATION:MT
CATEGORIES:Helena High Football - Frosh
END:VEVENT
BEGIN:VEVENT
DTSTART;TZID=America/Denver:20211022T190000
DTEND;TZID=America/Denver:20211022T210000
DTSTAMP:20260421T012355
CREATED:20210922T204418Z
LAST-MODIFIED:20211007T154417Z
UID:24894-1634929200-1634936400@hhs.helenaschools.org
SUMMARY:CHS Varsity Football vs Helena High
DESCRIPTION:
URL:https://hhs.helenaschools.org/event/chs-varsity-football-vs-helena-high/
LOCATION:MT
CATEGORIES:Capital High Football - Varsity
END:VEVENT
BEGIN:VEVENT
DTSTART;TZID=America/Denver:20211022T190000
DTEND;TZID=America/Denver:20211022T190000
DTSTAMP:20260421T012355
CREATED:20210821T191426Z
LAST-MODIFIED:20210829T194644Z
UID:24593-1634929200-1634929200@hhs.helenaschools.org
SUMMARY:HHS v Capital (Away)
DESCRIPTION:
URL:https://hhs.helenaschools.org/event/hhs-v-capital-away/
LOCATION:MT
CATEGORIES:Activities,Helena High Activities,Helena High Football
END:VEVENT
BEGIN:VEVENT
DTSTART;TZID=America/Denver:20211022T150000
DTEND;TZID=America/Denver:20211022T170000
DTSTAMP:20260421T012355
CREATED:20210922T204418Z
LAST-MODIFIED:20211007T154417Z
UID:24893-1634914800-1634922000@hhs.helenaschools.org
SUMMARY:CHS JV Football vs Helena High
DESCRIPTION:
URL:https://hhs.helenaschools.org/event/chs-jv-football-vs-helena-high/
LOCATION:MT
CATEGORIES:Capital High Football - Junior Varsity
END:VEVENT
BEGIN:VEVENT
DTSTART;VALUE=DATE:20211022
DTEND;VALUE=DATE:20211023
DTSTAMP:20260421T012355
CREATED:20210922T204418Z
LAST-MODIFIED:20211022T175942Z
UID:24889-1634860800-1634947199@hhs.helenaschools.org
SUMMARY:HHS Volleyball vs Flathead – Home
DESCRIPTION:
URL:https://hhs.helenaschools.org/event/hhs-volleyball-vs-flathead-home/
LOCATION:MT
CATEGORIES:Helena High Volleyball
END:VEVENT
BEGIN:VEVENT
DTSTART;VALUE=DATE:20211022
DTEND;VALUE=DATE:20211023
DTSTAMP:20260421T012355
CREATED:20210922T204418Z
LAST-MODIFIED:20211007T154417Z
UID:24890-1634860800-1634947199@hhs.helenaschools.org
SUMMARY:CHS Volleyball vs Glacier – Home
DESCRIPTION:
URL:https://hhs.helenaschools.org/event/chs-volleyball-vs-glacier-home/
LOCATION:MT
CATEGORIES:Capital High Volleyball
END:VEVENT
BEGIN:VEVENT
DTSTART;VALUE=DATE:20211022
DTEND;VALUE=DATE:20211023
DTSTAMP:20260421T012355
CREATED:20210922T204418Z
LAST-MODIFIED:20211022T175942Z
UID:24891-1634860800-1634947199@hhs.helenaschools.org
SUMMARY:HHS Varsity Football vs Capital – Away
DESCRIPTION:
URL:https://hhs.helenaschools.org/event/hhs-varsity-football-vs-capital-away/
LOCATION:MT
CATEGORIES:Helena High Football - Varsity
END:VEVENT
BEGIN:VEVENT
DTSTART;VALUE=DATE:20211022
DTEND;VALUE=DATE:20211023
DTSTAMP:20260421T012355
CREATED:20210922T204418Z
LAST-MODIFIED:20211022T175942Z
UID:24892-1634860800-1634947199@hhs.helenaschools.org
SUMMARY:HHS Junior Varsity Football vs Capital – Away
DESCRIPTION:
URL:https://hhs.helenaschools.org/event/hhs-junior-varsity-football-vs-capital-away/
LOCATION:MT
CATEGORIES:Helena High Football - Junior Varsity
END:VEVENT
BEGIN:VEVENT
DTSTART;VALUE=DATE:20211021
DTEND;VALUE=DATE:20211023
DTSTAMP:20260421T012355
CREATED:20210922T204418Z
LAST-MODIFIED:20211021T104926Z
UID:24888-1634774400-1634947199@hhs.helenaschools.org
SUMMARY:Educator Conferences – No School
DESCRIPTION:
URL:https://hhs.helenaschools.org/event/educator-conferences-no-school/
LOCATION:MT
CATEGORIES:District Schedule,No School
END:VEVENT
BEGIN:VEVENT
DTSTART;VALUE=DATE:20211021
DTEND;VALUE=DATE:20211022
DTSTAMP:20260421T012355
CREATED:20210921T204447Z
LAST-MODIFIED:20211021T180013Z
UID:24855-1634774400-1634860799@hhs.helenaschools.org
SUMMARY:HHS Volleyball vs. Glacier – Home
DESCRIPTION:
URL:https://hhs.helenaschools.org/event/hhs-volleyball-vs-glacier-home/
LOCATION:MT
CATEGORIES:Helena High Volleyball
END:VEVENT
BEGIN:VEVENT
DTSTART;VALUE=DATE:20211021
DTEND;VALUE=DATE:20211022
DTSTAMP:20260421T012355
CREATED:20210921T204447Z
LAST-MODIFIED:20211007T154417Z
UID:24856-1634774400-1634860799@hhs.helenaschools.org
SUMMARY:CHS Volleyball vs Flathead – Home
DESCRIPTION:
URL:https://hhs.helenaschools.org/event/chs-volleyball-vs-flathead-home/
LOCATION:MT
CATEGORIES:Capital High Volleyball
END:VEVENT
BEGIN:VEVENT
DTSTART;TZID=America/Denver:20211019T140000
DTEND;TZID=America/Denver:20211019T170000
DTSTAMP:20260421T012355
CREATED:20211018T180102Z
LAST-MODIFIED:20211019T180157Z
UID:25570-1634652000-1634662800@hhs.helenaschools.org
SUMMARY:HHS Girls Soccer vs Butte – State AA Soccer Playoffs
DESCRIPTION:
URL:https://hhs.helenaschools.org/event/hhs-girls-soccer-vs-butte-state-aa-soccer-playoffs/
LOCATION:Siebel Fields\, 2550 Skyway Dr.\, Helena\, MT\, 59601\, United States
CATEGORIES:Helena High Girls Soccer
END:VEVENT
BEGIN:VEVENT
DTSTART;TZID=America/Denver:20211019T140000
DTEND;TZID=America/Denver:20211019T160000
DTSTAMP:20260421T012355
CREATED:20211018T180103Z
LAST-MODIFIED:20211019T180157Z
UID:25571-1634652000-1634659200@hhs.helenaschools.org
SUMMARY:HHS Boys Soccer vs Missoula Sentinel – State AA Playoffs
DESCRIPTION:
URL:https://hhs.helenaschools.org/event/hhs-boys-soccer-vs-missoula-sentinel-state-aa-playoffs/
LOCATION:Siebel Fields\, 2550 Skyway Dr.\, Helena\, MT\, 59601\, United States
CATEGORIES:Helena High Boys Soccer
END:VEVENT
BEGIN:VEVENT
DTSTART;VALUE=DATE:20211019
DTEND;VALUE=DATE:20211020
DTSTAMP:20260421T012355
CREATED:20210919T204427Z
LAST-MODIFIED:20211007T154416Z
UID:24828-1634601600-1634687999@hhs.helenaschools.org
SUMMARY:CHS Girls Soccer – First Round
DESCRIPTION:
URL:https://hhs.helenaschools.org/event/chs-girls-soccer-first-round/
LOCATION:MT
CATEGORIES:Capital High Girls Soccer
END:VEVENT
BEGIN:VEVENT
DTSTART;TZID=America/Denver:20211016T110000
DTEND;TZID=America/Denver:20211016T130000
DTSTAMP:20260421T012355
CREATED:20210916T204429Z
LAST-MODIFIED:20211007T154416Z
UID:24824-1634382000-1634389200@hhs.helenaschools.org
SUMMARY:CHS Frosh Football vs Sentinel
DESCRIPTION:
URL:https://hhs.helenaschools.org/event/chs-frosh-football-vs-sentinel/
LOCATION:MT
CATEGORIES:Capital High Football - Frosh
END:VEVENT
END:VCALENDAR