BEGIN:VCALENDAR
VERSION:2.0
PRODID:-//Helena High School - ECPv6.15.20//NONSGML v1.0//EN
CALSCALE:GREGORIAN
METHOD:PUBLISH
X-WR-CALNAME:Helena High School
X-ORIGINAL-URL:https://hhs.helenaschools.org
X-WR-CALDESC:Events for Helena High School
REFRESH-INTERVAL;VALUE=DURATION:PT1H
X-Robots-Tag:noindex
X-PUBLISHED-TTL:PT1H
BEGIN:VTIMEZONE
TZID:America/Denver
BEGIN:DAYLIGHT
TZOFFSETFROM:-0700
TZOFFSETTO:-0600
TZNAME:MDT
DTSTART:20200308T090000
END:DAYLIGHT
BEGIN:STANDARD
TZOFFSETFROM:-0600
TZOFFSETTO:-0700
TZNAME:MST
DTSTART:20201101T080000
END:STANDARD
BEGIN:DAYLIGHT
TZOFFSETFROM:-0700
TZOFFSETTO:-0600
TZNAME:MDT
DTSTART:20210314T090000
END:DAYLIGHT
BEGIN:STANDARD
TZOFFSETFROM:-0600
TZOFFSETTO:-0700
TZNAME:MST
DTSTART:20211107T080000
END:STANDARD
BEGIN:DAYLIGHT
TZOFFSETFROM:-0700
TZOFFSETTO:-0600
TZNAME:MDT
DTSTART:20220313T090000
END:DAYLIGHT
BEGIN:STANDARD
TZOFFSETFROM:-0600
TZOFFSETTO:-0700
TZNAME:MST
DTSTART:20221106T080000
END:STANDARD
END:VTIMEZONE
BEGIN:VEVENT
DTSTART;VALUE=DATE:20210212
DTEND;VALUE=DATE:20210214
DTSTAMP:20260422T114345
CREATED:20201030T153153Z
LAST-MODIFIED:20201030T153153Z
UID:23251-1613088000-1613260799@hhs.helenaschools.org
SUMMARY:State Swim Meet
DESCRIPTION:
URL:https://hhs.helenaschools.org/event/state-swim-meet/
LOCATION:Missoula – TBD\, Missoula\, MT\, 59801\, United States
CATEGORIES:Activities,Capital High School Activities,Capital High Swim,Helena High Activities,Helena High Swim
END:VEVENT
BEGIN:VEVENT
DTSTART;VALUE=DATE:20210212
DTEND;VALUE=DATE:20210214
DTSTAMP:20260422T114345
CREATED:20201030T153153Z
LAST-MODIFIED:20201030T153153Z
UID:23253-1613088000-1613260799@hhs.helenaschools.org
SUMMARY:Wrestling State Tournament
DESCRIPTION:
URL:https://hhs.helenaschools.org/event/wrestling-state-tournament/
LOCATION:Billings Metra\, 308 6th Ave. N\, Billings\, MT\, 59101\, United States
CATEGORIES:Activities,Capital High School Activities,Capital High Wrestling,Helena High Activities,Helena High Wrestling
END:VEVENT
BEGIN:VEVENT
DTSTART;TZID=America/Denver:20210211T191500
DTEND;TZID=America/Denver:20210211T211500
DTSTAMP:20260422T114345
CREATED:20201210T004625Z
LAST-MODIFIED:20210211T040929Z
UID:23614-1613070900-1613078100@hhs.helenaschools.org
SUMMARY:HHS Girls Basketball v. Sentinel
DESCRIPTION:JV @ 5:30pm\nSoph @ 4pm\nFrosh @ 4pm
URL:https://hhs.helenaschools.org/event/hhs-girls-basketball-v-sentinel-4/
LOCATION:Sentinel High School\, 901 South Ave. W.\, Missoula\, MT\, 59801\, United States
CATEGORIES:Activities,Helena High Activities,Helena High Girls Basketball
END:VEVENT
BEGIN:VEVENT
DTSTART;TZID=America/Denver:20210211T191500
DTEND;TZID=America/Denver:20210211T211500
DTSTAMP:20260422T114345
CREATED:20201210T004625Z
LAST-MODIFIED:20210211T040929Z
UID:23615-1613070900-1613078100@hhs.helenaschools.org
SUMMARY:HHS Boys Basketball v. Sentinel
DESCRIPTION:JV @ 5:30pm\nSoph @ 4pm\nFrosh @ 2:30pm
URL:https://hhs.helenaschools.org/event/hhs-boys-basketball-v-sentinel-4/
LOCATION:Helena High School\, 1300 Billings Ave.\, Helena\, 59601
CATEGORIES:Activities,Helena High Activities,Helena High Boys Basketball
END:VEVENT
BEGIN:VEVENT
DTSTART;TZID=America/Denver:20210211T191500
DTEND;TZID=America/Denver:20210211T211500
DTSTAMP:20260422T114345
CREATED:20201030T153153Z
LAST-MODIFIED:20201030T153153Z
UID:23249-1613070900-1613078100@hhs.helenaschools.org
SUMMARY:HHS Girls Basketball v. Sentinel
DESCRIPTION:JV @ 5:30pm\nSoph @ 4:00pm\nFrosh @ 4:30pm
URL:https://hhs.helenaschools.org/event/hhs-girls-basketball-v-sentinel-2/
LOCATION:Sentinel High School\, 901 South Ave. W.\, Missoula\, MT\, 59801\, United States
CATEGORIES:Activities,Helena High Activities,Helena High Girls Basketball
END:VEVENT
BEGIN:VEVENT
DTSTART;TZID=America/Denver:20210211T191500
DTEND;TZID=America/Denver:20210211T211500
DTSTAMP:20260422T114345
CREATED:20201030T153153Z
LAST-MODIFIED:20201030T153153Z
UID:23250-1613070900-1613078100@hhs.helenaschools.org
SUMMARY:HHS Boys Basketball v. Sentinel
DESCRIPTION:JV @ 5:30pm\nSoph @ 4:00pm\nFrosh @ 4:30pm @ Bryant
URL:https://hhs.helenaschools.org/event/hhs-boys-basketball-v-sentinel-2/
LOCATION:Helena High School\, 1300 Billings Ave.\, Helena\, 59601
CATEGORIES:Activities,Helena High Activities,Helena High Boys Basketball
END:VEVENT
BEGIN:VEVENT
DTSTART;TZID=America/Denver:20210211T090000
DTEND;TZID=America/Denver:20210211T160000
DTSTAMP:20260422T114345
CREATED:20210206T030708Z
LAST-MODIFIED:20210211T040929Z
UID:23950-1613034000-1613059200@hhs.helenaschools.org
SUMMARY:Board of Trustees Special Meeting – 02.11.2021
DESCRIPTION:
URL:https://hhs.helenaschools.org/event/board-of-trustees-special-meeting-02-11-2021/
LOCATION:Ray Bjork Learning Center\, 1600 8th Ave.\, Helena\, 59601
CATEGORIES:Board of Trustees Meeting,District Schedule,Special Meeting
ORGANIZER;CN="Board of Trustees":MAILTO:boardoftrustees@helenaschools.org
END:VEVENT
BEGIN:VEVENT
DTSTART;TZID=America/Denver:20210210T093000
DTEND;TZID=America/Denver:20210210T163000
DTSTAMP:20260422T114345
CREATED:20210206T030708Z
LAST-MODIFIED:20210210T034707Z
UID:23949-1612949400-1612974600@hhs.helenaschools.org
SUMMARY:Board of Trustees Special Meeting – 02.10.2021
DESCRIPTION:
URL:https://hhs.helenaschools.org/event/board-of-trustees-special-meeting-02-10-2021/
LOCATION:Ray Bjork Learning Center\, 1600 8th Ave.\, Helena\, 59601
CATEGORIES:Board of Trustees Meeting,District Schedule,Special Meeting
ORGANIZER;CN="Board of Trustees":MAILTO:boardoftrustees@helenaschools.org
END:VEVENT
BEGIN:VEVENT
DTSTART;TZID=America/Denver:20210209T173000
DTEND;TZID=America/Denver:20210209T193000
DTSTAMP:20260422T114345
CREATED:20210115T000745Z
LAST-MODIFIED:20210209T033517Z
UID:23843-1612891800-1612899000@hhs.helenaschools.org
SUMMARY:Board of Trustees Meeting – 02.09.2021
DESCRIPTION:
URL:https://hhs.helenaschools.org/event/board-of-trustees-meeting-02-09-2021/
LOCATION:Capital High School\, 100 Valley Dr.\, Helena\, MT\, 59601\, United States
CATEGORIES:Board of Trustees Meeting,District Schedule,Full Board Meeting
ORGANIZER;CN="Board of Trustees":MAILTO:boardoftrustees@helenaschools.org
END:VEVENT
BEGIN:VEVENT
DTSTART;TZID=America/Denver:20210209T110000
DTEND;TZID=America/Denver:20210209T120000
DTSTAMP:20260422T114345
CREATED:20210206T030707Z
LAST-MODIFIED:20210209T033517Z
UID:23948-1612868400-1612872000@hhs.helenaschools.org
SUMMARY:Board of Trustees Executive Committee Meeting – 02.09.2021
DESCRIPTION:
URL:https://hhs.helenaschools.org/event/board-of-trustees-executive-committee-meeting-02-09-2021/
LOCATION:May Butler Center\, 55 S Rodney Street\, Helena\, MT\, 59601\, United States
CATEGORIES:Board of Trustees Meeting,District Schedule,Executive Session
ORGANIZER;CN="Board of Trustees":MAILTO:boardoftrustees@helenaschools.org
END:VEVENT
BEGIN:VEVENT
DTSTART;TZID=America/Denver:20210208T191500
DTEND;TZID=America/Denver:20210208T211500
DTSTAMP:20260422T114345
CREATED:20210115T000745Z
LAST-MODIFIED:20210208T031614Z
UID:23842-1612811700-1612818900@hhs.helenaschools.org
SUMMARY:Crosstown Girls Basketball
DESCRIPTION:JV @ 5:30pm\nSoph @ 5:30pm\nFrosh @ 4pm
URL:https://hhs.helenaschools.org/event/crosstown-girls-basketball-soph-and-frosh/
LOCATION:Helena High School\, 1300 Billings Ave.\, Helena\, 59601
CATEGORIES:Activities,Capital High Girls Basketball,Capital High School Activities,Helena High Activities,Helena High Girls Basketball
END:VEVENT
BEGIN:VEVENT
DTSTART;TZID=America/Denver:20210208T080000
DTEND;TZID=America/Denver:20210208T170000
DTSTAMP:20260422T114345
CREATED:20201210T004625Z
LAST-MODIFIED:20210208T031614Z
UID:23613-1612771200-1612803600@hhs.helenaschools.org
SUMMARY:HHS Wrestling v. Hellgate
DESCRIPTION:JV @ 4pm
URL:https://hhs.helenaschools.org/event/hhs-wrestling-v-hellgate-2/
LOCATION:Hellgate High School\, 925 Gerald Ave.\, Missoula\, MT\, 59801\, United States
CATEGORIES:Activities,Helena High Activities,Helena High Wrestling
END:VEVENT
BEGIN:VEVENT
DTSTART;VALUE=DATE:20210208
DTEND;VALUE=DATE:20210214
DTSTAMP:20260422T114345
CREATED:20201210T004624Z
LAST-MODIFIED:20210208T031614Z
UID:23612-1612742400-1613260799@hhs.helenaschools.org
SUMMARY:HHS/CHS Swim at Missoula Invitational
DESCRIPTION:
URL:https://hhs.helenaschools.org/event/hhs-chs-swim-at-missoula-invitational-2/
LOCATION:Virtual\, Helena\, MT\, 59602\, United States
CATEGORIES:Activities,Capital High School Activities,Capital High Swim,Helena High Activities,Helena High Swim
END:VEVENT
BEGIN:VEVENT
DTSTART;TZID=America/Denver:20210206T153000
DTEND;TZID=America/Denver:20210206T173000
DTSTAMP:20260422T114345
CREATED:20201030T153153Z
LAST-MODIFIED:20201030T153153Z
UID:23248-1612625400-1612632600@hhs.helenaschools.org
SUMMARY:HHS Boys Basketball v. Butte
DESCRIPTION:JV @ 12:30pm\nSoph @ 2:00pm\nFrosh @ 11:00am
URL:https://hhs.helenaschools.org/event/hhs-boys-basketball-v-butte-2/
LOCATION:Butte High School\, 401 S Wyoming Ave.\, Butte\, MT\, 59701\, United States
CATEGORIES:Activities,Helena High Activities,Helena High Boys Basketball
END:VEVENT
BEGIN:VEVENT
DTSTART;TZID=America/Denver:20210206T143000
DTEND;TZID=America/Denver:20210206T163000
DTSTAMP:20260422T114345
CREATED:20201210T004624Z
LAST-MODIFIED:20210206T030707Z
UID:23610-1612621800-1612629000@hhs.helenaschools.org
SUMMARY:HHS Girls Basketball v. Butte
DESCRIPTION:JV @ 1pm\nSoph @ 11:30am\nFrosh @ 10am
URL:https://hhs.helenaschools.org/event/hhs-girls-basketball-v-butte-4/
LOCATION:Helena High School\, 1300 Billings Ave.\, Helena\, 59601
CATEGORIES:Activities,Helena High Activities,Helena High Girls Basketball
END:VEVENT
BEGIN:VEVENT
DTSTART;TZID=America/Denver:20210206T143000
DTEND;TZID=America/Denver:20210206T163000
DTSTAMP:20260422T114345
CREATED:20201210T004624Z
LAST-MODIFIED:20210206T030707Z
UID:23611-1612621800-1612629000@hhs.helenaschools.org
SUMMARY:HHS Boys Basketball v. Butte
DESCRIPTION:JV @ 1pm @ Civic Center\nSoph @ 11:30am @ Butte High\nFrosh @ 10am @ Butte High
URL:https://hhs.helenaschools.org/event/hhs-boys-basketball-v-butte-4/
LOCATION:Civic Center\, 401 S Wyoming Ave.\, Butte\, MT\, 59701\, United States
CATEGORIES:Activities,Helena High Activities,Helena High Boys Basketball
END:VEVENT
BEGIN:VEVENT
DTSTART;TZID=America/Denver:20210206T140000
DTEND;TZID=America/Denver:20210206T160000
DTSTAMP:20260422T114345
CREATED:20201030T153153Z
LAST-MODIFIED:20201030T153153Z
UID:23247-1612620000-1612627200@hhs.helenaschools.org
SUMMARY:HHS Girls Basketball v. Butte
DESCRIPTION:JV @ 11:00am\nSoph @ 3:30pm\nFrosh @ 12:30pm
URL:https://hhs.helenaschools.org/event/hhs-girls-basketball-v-butte-2/
LOCATION:Butte High School\, 401 S Wyoming Ave.\, Butte\, MT\, 59701\, United States
CATEGORIES:Activities,Helena High Activities,Helena High Girls Basketball
END:VEVENT
BEGIN:VEVENT
DTSTART;TZID=America/Denver:20210205T190000
DTEND;TZID=America/Denver:20210205T210000
DTSTAMP:20260422T114345
CREATED:20201210T004624Z
LAST-MODIFIED:20210205T030329Z
UID:23609-1612551600-1612558800@hhs.helenaschools.org
SUMMARY:HHS Wrestling v. Butte
DESCRIPTION:JV @ 4pm
URL:https://hhs.helenaschools.org/event/hhs-wrestling-v-butte-2/
LOCATION:Butte High School\, 401 S Wyoming Ave.\, Butte\, MT\, 59701\, United States
CATEGORIES:Activities,Helena High Activities,Helena High Wrestling
END:VEVENT
BEGIN:VEVENT
DTSTART;TZID=America/Denver:20210205T160000
DTEND;TZID=America/Denver:20210206T170000
DTSTAMP:20260422T114345
CREATED:20201030T153153Z
LAST-MODIFIED:20201030T153153Z
UID:23245-1612540800-1612630800@hhs.helenaschools.org
SUMMARY:Wrestling Seeding Tournament at Kalispell
DESCRIPTION:
URL:https://hhs.helenaschools.org/event/wrestling-seeding-tournament-at-kalispell/
LOCATION:Kalispell – TBD\, Kalispell\, MT\, 59901\, United States
CATEGORIES:Activities,Capital High School Activities,Capital High Wrestling,Helena High Activities,Helena High Wrestling
END:VEVENT
BEGIN:VEVENT
DTSTART;TZID=America/Denver:20210204T193000
DTEND;TZID=America/Denver:20210204T213000
DTSTAMP:20260422T114345
CREATED:20201210T004624Z
LAST-MODIFIED:20210204T024726Z
UID:23608-1612467000-1612474200@hhs.helenaschools.org
SUMMARY:HHS Girls Basketball v. Hellgate
DESCRIPTION:JV @ 5:45pm\nFroshmore @ 4pm
URL:https://hhs.helenaschools.org/event/hhs-girls-basketball-v-hellgate-4/
LOCATION:Hellgate High School\, 925 Gerald Ave.\, Missoula\, MT\, 59801\, United States
CATEGORIES:Activities,Helena High Activities,Helena High Girls Basketball
END:VEVENT
BEGIN:VEVENT
DTSTART;TZID=America/Denver:20210204T191500
DTEND;TZID=America/Denver:20210204T211500
DTSTAMP:20260422T114345
CREATED:20201210T004624Z
LAST-MODIFIED:20210204T024726Z
UID:23607-1612466100-1612473300@hhs.helenaschools.org
SUMMARY:HHS Boys Basketball v. Hellgate
DESCRIPTION:JV @ 5:30pm\nSoph @ 4pm\nFrosh @ 2:30pm
URL:https://hhs.helenaschools.org/event/hhs-boys-basketball-v-hellgate-4/
LOCATION:Helena High School\, 1300 Billings Ave.\, Helena\, 59601
CATEGORIES:Activities,Helena High Activities,Helena High Boys Basketball
END:VEVENT
BEGIN:VEVENT
DTSTART;TZID=America/Denver:20210204T191500
DTEND;TZID=America/Denver:20210204T211500
DTSTAMP:20260422T114345
CREATED:20201030T153152Z
LAST-MODIFIED:20201030T153152Z
UID:23243-1612466100-1612473300@hhs.helenaschools.org
SUMMARY:HHS Girls Basketball v. Hellgate
DESCRIPTION:JV @ 5:30pm\nSoph @ 4:00pm\nFrosh @ 4;00pm
URL:https://hhs.helenaschools.org/event/hhs-girls-basketball-v-hellgate-2/
LOCATION:Hellgate High School\, 925 Gerald Ave.\, Missoula\, MT\, 59801\, United States
CATEGORIES:Activities,Helena High Activities,Helena High Girls Basketball
END:VEVENT
BEGIN:VEVENT
DTSTART;TZID=America/Denver:20210204T191500
DTEND;TZID=America/Denver:20210204T211500
DTSTAMP:20260422T114345
CREATED:20201030T153152Z
LAST-MODIFIED:20201030T153152Z
UID:23244-1612466100-1612473300@hhs.helenaschools.org
SUMMARY:HHS Boys Basketball v. Hellgate
DESCRIPTION:JV @ 5:30pm\nSoph @ 4:00pm\nFrosh @ 4:30pm @ Bryant
URL:https://hhs.helenaschools.org/event/hhs-boys-basketball-v-hellgate-2/
LOCATION:Helena High School\, 1300 Billings Ave.\, Helena\, 59601
CATEGORIES:Activities,Helena High Activities,Helena High Boys Basketball
END:VEVENT
BEGIN:VEVENT
DTSTART;TZID=America/Denver:20210203T120000
DTEND;TZID=America/Denver:20210203T133000
DTSTAMP:20260422T114345
CREATED:20210202T023407Z
LAST-MODIFIED:20210203T024454Z
UID:23912-1612353600-1612359000@hhs.helenaschools.org
SUMMARY:Board of Trustees Teaching & Learning Committee Meeting – 02.03.2021
DESCRIPTION:
URL:https://hhs.helenaschools.org/event/board-of-trustees-teaching-learning-committee-meeting-02-03-2021/
LOCATION:May Butler Center\, 55 S Rodney Street\, Helena\, MT\, 59601\, United States
CATEGORIES:Board of Trustees Meeting,District Schedule,Teaching and Learning Committee
ORGANIZER;CN="Board of Trustees":MAILTO:boardoftrustees@helenaschools.org
END:VEVENT
BEGIN:VEVENT
DTSTART;TZID=America/Denver:20210202T160000
DTEND;TZID=America/Denver:20210202T180000
DTSTAMP:20260422T114345
CREATED:20201030T153152Z
LAST-MODIFIED:20201030T153152Z
UID:23242-1612281600-1612288800@hhs.helenaschools.org
SUMMARY:Crosstown Swim Meet
DESCRIPTION:
URL:https://hhs.helenaschools.org/event/crosstown-swim-meet/
LOCATION:Helena YMCA\, 1200 N. Last Chance Gulch\, Helena\, MT\, 59601\, United States
CATEGORIES:Activities,Capital High School Activities,Capital High Swim,Helena High Activities,Helena High Swim
END:VEVENT
BEGIN:VEVENT
DTSTART;TZID=America/Denver:20210202T120000
DTEND;TZID=America/Denver:20210202T133000
DTSTAMP:20260422T114345
CREATED:20210130T023313Z
LAST-MODIFIED:20210202T023402Z
UID:23899-1612267200-1612272600@hhs.helenaschools.org
SUMMARY:Board of Trustees Policy Committee Meeting – 02.02.2021
DESCRIPTION:
URL:https://hhs.helenaschools.org/event/board-of-trustees-policy-committee-meeting-02-02-2021/
LOCATION:May Butler Center\, 55 S Rodney Street\, Helena\, MT\, 59601\, United States
CATEGORIES:Board of Trustees Meeting,District Schedule,Policy Committee
ORGANIZER;CN="Board of Trustees":MAILTO:boardoftrustees@helenaschools.org
END:VEVENT
BEGIN:VEVENT
DTSTART;VALUE=DATE:20210201
DTEND;VALUE=DATE:20210207
DTSTAMP:20260422T114345
CREATED:20201210T004624Z
LAST-MODIFIED:20210201T023048Z
UID:23606-1612137600-1612655999@hhs.helenaschools.org
SUMMARY:CHS/HHS Swim at Frey Memorial
DESCRIPTION:
URL:https://hhs.helenaschools.org/event/chs-hhs-swim-at-frey-memorial-2/
LOCATION:Virtual\, Helena\, MT\, 59602\, United States
CATEGORIES:Activities,Capital High School Activities,Capital High Swim,Helena High Activities,Helena High Swim
END:VEVENT
BEGIN:VEVENT
DTSTART;TZID=America/Denver:20210130T160000
DTEND;TZID=America/Denver:20210130T180000
DTSTAMP:20260422T114345
CREATED:20201210T004624Z
LAST-MODIFIED:20210130T023313Z
UID:23604-1612022400-1612029600@hhs.helenaschools.org
SUMMARY:HHS Girls Basketball v. Flathead
DESCRIPTION:JV @ 2:30pm\nSoph @ 1pm\nFrosh @ 11:30am
URL:https://hhs.helenaschools.org/event/hhs-girls-basketball-v-flathead-3/
LOCATION:Helena High School\, 1300 Billings Ave.\, Helena\, 59601
CATEGORIES:Activities,Helena High Activities,Helena High Girls Basketball
END:VEVENT
BEGIN:VEVENT
DTSTART;TZID=America/Denver:20210130T160000
DTEND;TZID=America/Denver:20210130T180000
DTSTAMP:20260422T114345
CREATED:20201210T004624Z
LAST-MODIFIED:20210130T023313Z
UID:23605-1612022400-1612029600@hhs.helenaschools.org
SUMMARY:HHS Boys Basketball v. Flathead
DESCRIPTION:JV @ 2:30pm\nSoph @ 1pm\nFrosh @ 1pm
URL:https://hhs.helenaschools.org/event/hhs-boys-basketball-v-flathead-3/
LOCATION:Flathead High School\, 644 Fourth Ave. W.\, Kalispell\, MT\, 59901\, United States
CATEGORIES:Activities,Helena High Activities,Helena High Boys Basketball
END:VEVENT
BEGIN:VEVENT
DTSTART;TZID=America/Denver:20210130T140000
DTEND;TZID=America/Denver:20210130T160000
DTSTAMP:20260422T114345
CREATED:20201030T153152Z
LAST-MODIFIED:20201030T153152Z
UID:23240-1612015200-1612022400@hhs.helenaschools.org
SUMMARY:HHS Girls Basketball v. Flathead
DESCRIPTION:JV @ 12:30pm\nSoph @ 11:00am\nFrosh @ 9:30am
URL:https://hhs.helenaschools.org/event/hhs-girls-basketball-v-flathead/
LOCATION:Helena High School\, 1300 Billings Ave.\, Helena\, 59601
CATEGORIES:Activities,Helena High Activities,Helena High Girls Basketball
END:VEVENT
END:VCALENDAR