BEGIN:VCALENDAR
VERSION:2.0
PRODID:-//Helena High School - ECPv6.15.20//NONSGML v1.0//EN
CALSCALE:GREGORIAN
METHOD:PUBLISH
X-WR-CALNAME:Helena High School
X-ORIGINAL-URL:https://hhs.helenaschools.org
X-WR-CALDESC:Events for Helena High School
REFRESH-INTERVAL;VALUE=DURATION:PT1H
X-Robots-Tag:noindex
X-PUBLISHED-TTL:PT1H
BEGIN:VTIMEZONE
TZID:America/Denver
BEGIN:DAYLIGHT
TZOFFSETFROM:-0700
TZOFFSETTO:-0600
TZNAME:MDT
DTSTART:20200308T090000
END:DAYLIGHT
BEGIN:STANDARD
TZOFFSETFROM:-0600
TZOFFSETTO:-0700
TZNAME:MST
DTSTART:20201101T080000
END:STANDARD
BEGIN:DAYLIGHT
TZOFFSETFROM:-0700
TZOFFSETTO:-0600
TZNAME:MDT
DTSTART:20210314T090000
END:DAYLIGHT
BEGIN:STANDARD
TZOFFSETFROM:-0600
TZOFFSETTO:-0700
TZNAME:MST
DTSTART:20211107T080000
END:STANDARD
BEGIN:DAYLIGHT
TZOFFSETFROM:-0700
TZOFFSETTO:-0600
TZNAME:MDT
DTSTART:20220313T090000
END:DAYLIGHT
BEGIN:STANDARD
TZOFFSETFROM:-0600
TZOFFSETTO:-0700
TZNAME:MST
DTSTART:20221106T080000
END:STANDARD
END:VTIMEZONE
BEGIN:VEVENT
DTSTART;VALUE=DATE:20211111
DTEND;VALUE=DATE:20211114
DTSTAMP:20260420T222352
CREATED:20211014T174410Z
LAST-MODIFIED:20211110T163221Z
UID:25553-1636588800-1636847999@hhs.helenaschools.org
SUMMARY:HHS Volleyball State – MSU Bozeman
DESCRIPTION:
URL:https://hhs.helenaschools.org/event/hhs-volleyball-state-msu-bozeman/
LOCATION:MT
CATEGORIES:Helena High Volleyball
END:VEVENT
BEGIN:VEVENT
DTSTART;VALUE=DATE:20211124
DTEND;VALUE=DATE:20211127
DTSTAMP:20260420T222352
CREATED:20211027T113306Z
LAST-MODIFIED:20211124T180301Z
UID:25596-1637712000-1637971199@hhs.helenaschools.org
SUMMARY:Thanksgiving Break
DESCRIPTION:No School \nDistrict offices closed 11/25-26
URL:https://hhs.helenaschools.org/event/thanksgiving-break-2/
LOCATION:MT
CATEGORIES:District Closed,District Schedule,No School
END:VEVENT
BEGIN:VEVENT
DTSTART;TZID=America/Denver:20211130T110000
DTEND;TZID=America/Denver:20211130T120000
DTSTAMP:20260420T222352
CREATED:20211031T114601Z
LAST-MODIFIED:20211130T190242Z
UID:25611-1638270000-1638273600@hhs.helenaschools.org
SUMMARY:Executive Committee Meeting 11.30.21
DESCRIPTION:
URL:https://hhs.helenaschools.org/event/executive-committee-meeting-11-30-21/
LOCATION:1325 Poplar St.\, Helena\, MT\, 59601\, United States
CATEGORIES:Board of Trustees Meeting,Executive Session
ORGANIZER;CN="Board of Trustees":MAILTO:boardoftrustees@helenaschools.org
END:VEVENT
BEGIN:VEVENT
DTSTART;TZID=America/Denver:20211130T153000
DTEND;TZID=America/Denver:20211130T193000
DTSTAMP:20260420T222352
CREATED:20211031T114602Z
LAST-MODIFIED:20211130T190242Z
UID:25612-1638286200-1638300600@hhs.helenaschools.org
SUMMARY:Board Work Session 11.30.21
DESCRIPTION:
URL:https://hhs.helenaschools.org/event/board-work-session-11-30-21/
LOCATION:Helena Middle School\, 1025 N. Rodney\, Helena\, MT\, 59601\, United States
CATEGORIES:Board of Trustees Meeting,Work Session
ORGANIZER;CN="Board of Trustees":MAILTO:boardoftrustees@helenaschools.org
END:VEVENT
BEGIN:VEVENT
DTSTART;TZID=America/Denver:20211201T120000
DTEND;TZID=America/Denver:20211201T130000
DTSTAMP:20260420T222352
CREATED:20211105T115916Z
LAST-MODIFIED:20211201T190242Z
UID:25632-1638360000-1638363600@hhs.helenaschools.org
SUMMARY:Teaching & Learning Committee 12.01.21
DESCRIPTION:Microsoft Teams meeting \n\n\n\nJoin on your computer or mobile app  \n\nClick here to join the meeting
URL:https://hhs.helenaschools.org/event/teaching-learning-committee-12-01-21/
LOCATION:MT
CATEGORIES:Board of Trustees Meeting,Teaching and Learning Committee
ORGANIZER;CN="Board of Trustees":MAILTO:boardoftrustees@helenaschools.org
END:VEVENT
BEGIN:VEVENT
DTSTART;TZID=America/Denver:20211202T093000
DTEND;TZID=America/Denver:20211202T110000
DTSTAMP:20260420T222352
CREATED:20211124T180300Z
LAST-MODIFIED:20211124T180302Z
UID:25718-1638437400-1638442800@hhs.helenaschools.org
SUMMARY:Retirement Incentive Meeting
DESCRIPTION:
URL:https://hhs.helenaschools.org/event/retirement-incentive-meeting/
LOCATION:1325 Poplar St.\, Helena\, MT\, 59601\, United States
CATEGORIES:Special Meeting
END:VEVENT
BEGIN:VEVENT
DTSTART;TZID=America/Denver:20211202T093000
DTEND;TZID=America/Denver:20211202T110000
DTSTAMP:20260420T222352
CREATED:20211129T190041Z
LAST-MODIFIED:20211129T190042Z
UID:25731-1638437400-1638442800@hhs.helenaschools.org
SUMMARY:Retirement Incentive Meeting 12.02.21
DESCRIPTION:
URL:https://hhs.helenaschools.org/event/retirement-incentive-meeting-12-02-21/
LOCATION:1325 Poplar St.\, Helena\, MT\, 59601\, United States
CATEGORIES:District Schedule,Special Meeting
END:VEVENT
BEGIN:VEVENT
DTSTART;TZID=America/Denver:20211202T120000
DTEND;TZID=America/Denver:20211202T133000
DTSTAMP:20260420T222352
CREATED:20211124T180300Z
LAST-MODIFIED:20211202T190314Z
UID:25719-1638446400-1638451800@hhs.helenaschools.org
SUMMARY:Board of Trustees-Special Meeting 12.02.21
DESCRIPTION:
URL:https://hhs.helenaschools.org/event/facilities-facilitated-work-session-meeting/
LOCATION:1325 Poplar St.\, Helena\, MT\, 59601\, United States
CATEGORIES:Board of Trustees Meeting,Special Meeting,Work Session
ORGANIZER;CN="Board of Trustees":MAILTO:boardoftrustees@helenaschools.org
END:VEVENT
BEGIN:VEVENT
DTSTART;TZID=America/Denver:20211203T120000
DTEND;TZID=America/Denver:20211203T130000
DTSTAMP:20260420T222352
CREATED:20211105T115916Z
LAST-MODIFIED:20211130T190243Z
UID:25633-1638532800-1638536400@hhs.helenaschools.org
SUMMARY:Budget & Finance Committee Meeting 12.03.21
DESCRIPTION:Microsoft Teams meeting \n\n\n\nJoin on your computer or mobile app  \n\nClick here to join the meeting
URL:https://hhs.helenaschools.org/event/budget-finance-committee-meeting-12-03-21/
LOCATION:MT
CATEGORIES:Board of Trustees Meeting,Budget and Finance Committee
ORGANIZER;CN="Board of Trustees":MAILTO:boardoftrustees@helenaschools.org
END:VEVENT
BEGIN:VEVENT
DTSTART;TZID=America/Denver:20211207T120000
DTEND;TZID=America/Denver:20211207T130000
DTSTAMP:20260420T222352
CREATED:20211107T120339Z
LAST-MODIFIED:20211207T191636Z
UID:25641-1638878400-1638882000@hhs.helenaschools.org
SUMMARY:Policy Committee Meeting 12.07.21
DESCRIPTION:Microsoft Teams meeting \n\n\n\nJoin on your computer or mobile app  \n\nClick here to join the meeting
URL:https://hhs.helenaschools.org/event/policy-committee-meeting-12-07-21/
LOCATION:MT
CATEGORIES:Board of Trustees Meeting,Policy Committee
ORGANIZER;CN="Board of Trustees":MAILTO:boardoftrustees@helenaschools.org
END:VEVENT
BEGIN:VEVENT
DTSTART;TZID=America/Denver:20211210T160000
DTEND;TZID=America/Denver:20211210T180000
DTSTAMP:20260420T222352
CREATED:20211110T163221Z
LAST-MODIFIED:20211110T163221Z
UID:25648-1639152000-1639159200@hhs.helenaschools.org
SUMMARY:HHS Boys Basketball vs Bozeman  – Away
DESCRIPTION:
URL:https://hhs.helenaschools.org/event/hhs-boys-basketball-vs-bozeman-away/
LOCATION:MT
CATEGORIES:Helena High Boys Basketball - Soph
END:VEVENT
BEGIN:VEVENT
DTSTART;TZID=America/Denver:20211210T160000
DTEND;TZID=America/Denver:20211210T180000
DTSTAMP:20260420T222352
CREATED:20211111T162943Z
LAST-MODIFIED:20211119T172925Z
UID:25662-1639152000-1639159200@hhs.helenaschools.org
SUMMARY:HHS Soph Boys Basketball vs Bozeman  – Away
DESCRIPTION:
URL:https://hhs.helenaschools.org/event/hhs-soph-boys-basketball-vs-bozeman-away/
LOCATION:MT
CATEGORIES:Helena High Boys Basketball - Soph
END:VEVENT
BEGIN:VEVENT
DTSTART;TZID=America/Denver:20211210T161500
DTEND;TZID=America/Denver:20211210T181500
DTSTAMP:20260420T222352
CREATED:20211110T163221Z
LAST-MODIFIED:20211110T163221Z
UID:25649-1639152900-1639160100@hhs.helenaschools.org
SUMMARY:HHS Boys Basketball vs Bozeman  – Away
DESCRIPTION:
URL:https://hhs.helenaschools.org/event/hhs-boys-basketball-vs-bozeman-away-2/
LOCATION:MT
CATEGORIES:Helena High Boys Basketball - Frosh
END:VEVENT
BEGIN:VEVENT
DTSTART;TZID=America/Denver:20211210T161500
DTEND;TZID=America/Denver:20211210T181500
DTSTAMP:20260420T222352
CREATED:20211111T162943Z
LAST-MODIFIED:20211119T172925Z
UID:25663-1639152900-1639160100@hhs.helenaschools.org
SUMMARY:HHS Frosh Boys Basketball vs Bozeman  – Away
DESCRIPTION:
URL:https://hhs.helenaschools.org/event/hhs-frosh-boys-basketball-vs-bozeman-away/
LOCATION:MT
CATEGORIES:Helena High Boys Basketball - Frosh
END:VEVENT
BEGIN:VEVENT
DTSTART;TZID=America/Denver:20211210T173000
DTEND;TZID=America/Denver:20211210T193000
DTSTAMP:20260420T222352
CREATED:20211110T163221Z
LAST-MODIFIED:20211110T163221Z
UID:25650-1639157400-1639164600@hhs.helenaschools.org
SUMMARY:HHS Boys Basketball vs Bozeman  – Away
DESCRIPTION:
URL:https://hhs.helenaschools.org/event/hhs-boys-basketball-vs-bozeman-away-3/
LOCATION:MT
CATEGORIES:Helena High Boys Basketball - Junior Varsity
END:VEVENT
BEGIN:VEVENT
DTSTART;TZID=America/Denver:20211210T173000
DTEND;TZID=America/Denver:20211210T193000
DTSTAMP:20260420T222352
CREATED:20211111T162943Z
LAST-MODIFIED:20211119T172925Z
UID:25664-1639157400-1639164600@hhs.helenaschools.org
SUMMARY:HHS JV Boys Basketball vs Bozeman  – Away
DESCRIPTION:
URL:https://hhs.helenaschools.org/event/hhs-jv-boys-basketball-vs-bozeman-away/
LOCATION:MT
CATEGORIES:Helena High Boys Basketball - Junior Varsity
END:VEVENT
BEGIN:VEVENT
DTSTART;TZID=America/Denver:20211210T190000
DTEND;TZID=America/Denver:20211210T210000
DTSTAMP:20260420T222352
CREATED:20211110T163221Z
LAST-MODIFIED:20211110T163221Z
UID:25651-1639162800-1639170000@hhs.helenaschools.org
SUMMARY:HHS Boys Basketball vs Bozeman  – Away
DESCRIPTION:
URL:https://hhs.helenaschools.org/event/hhs-boys-basketball-vs-bozeman-away-4/
LOCATION:MT
CATEGORIES:Helena High Boys Basketball - Varsity
END:VEVENT
BEGIN:VEVENT
DTSTART;TZID=America/Denver:20211210T190000
DTEND;TZID=America/Denver:20211210T210000
DTSTAMP:20260420T222352
CREATED:20211111T162943Z
LAST-MODIFIED:20211119T172925Z
UID:25665-1639162800-1639170000@hhs.helenaschools.org
SUMMARY:HHS Varsity Boys Basketball vs Bozeman  – Away
DESCRIPTION:
URL:https://hhs.helenaschools.org/event/hhs-varsity-boys-basketball-vs-bozeman-away/
LOCATION:MT
CATEGORIES:Helena High Boys Basketball - Varsity
END:VEVENT
BEGIN:VEVENT
DTSTART;TZID=America/Denver:20211213T120000
DTEND;TZID=America/Denver:20211213T130000
DTSTAMP:20260420T222352
CREATED:20211106T115824Z
LAST-MODIFIED:20211213T201410Z
UID:25638-1639396800-1639400400@hhs.helenaschools.org
SUMMARY:Facilities & Maintenance Committee Meeting 12.13.21
DESCRIPTION:Microsoft Teams meeting \n\n\n\nJoin on your computer or mobile app  \n\nClick here to join the meeting
URL:https://hhs.helenaschools.org/event/facilities-maintenance-committee-meeting-12-06-21/
LOCATION:MT
CATEGORIES:Board of Trustees Meeting,Facilities and Maintenance Committee
ORGANIZER;CN="Board of Trustees":MAILTO:boardoftrustees@helenaschools.org
END:VEVENT
BEGIN:VEVENT
DTSTART;TZID=America/Denver:20211214T110000
DTEND;TZID=America/Denver:20211214T120000
DTSTAMP:20260420T222352
CREATED:20211114T165917Z
LAST-MODIFIED:20211214T201725Z
UID:25675-1639479600-1639483200@hhs.helenaschools.org
SUMMARY:Executive Committee Meeting 12.14.21
DESCRIPTION:Microsoft Teams meeting \n\n\n\nJoin on your computer or mobile app  \n\nClick here to join the meeting
URL:https://hhs.helenaschools.org/event/executive-committee-meeting-12-14-21/
LOCATION:Lincoln Center\, 1325 Poplar St\, Helena\, MT\, 59601\, United States
CATEGORIES:Board of Trustees Meeting,Executive Session
ORGANIZER;CN="Board of Trustees":MAILTO:boardoftrustees@helenaschools.org
END:VEVENT
BEGIN:VEVENT
DTSTART;TZID=America/Denver:20211214T154500
DTEND;TZID=America/Denver:20211214T173000
DTSTAMP:20260420T222352
CREATED:20211130T190242Z
LAST-MODIFIED:20211214T201725Z
UID:25736-1639496700-1639503000@hhs.helenaschools.org
SUMMARY:Health Benefits Committee Meeting 12.14.21
DESCRIPTION:Microsoft Teams meeting \nJoin on your computer or mobile app \nClick here to join the meeting \nOr call in (audio only) \n+1 406-272-9506\,\,481423657#   United States\, Billings \n(866) 790-3305\,\,481423657#   United States (Toll-free) \nPhone Conference ID: 481 423 657# \nFind a local number | Reset PIN \nLearn More | Meeting options \n  \n 
URL:https://hhs.helenaschools.org/event/health-benefits-committee-meeting-12-14-21/
LOCATION:MT
CATEGORIES:District Schedule,Health & Benefits Committee Meetings
END:VEVENT
BEGIN:VEVENT
DTSTART;TZID=America/Denver:20211214T173000
DTEND;TZID=America/Denver:20211214T203000
DTSTAMP:20260420T222352
CREATED:20211114T165916Z
LAST-MODIFIED:20211214T201725Z
UID:25674-1639503000-1639513800@hhs.helenaschools.org
SUMMARY:Full Board Meeting 12.14.21
DESCRIPTION:Microsoft Teams meeting \n\n\n\nJoin on your computer or mobile app  \n\nClick here to join the meeting
URL:https://hhs.helenaschools.org/event/full-board-meeting-12-14-21/
LOCATION:Lincoln Center\, 1325 Poplar St\, Helena\, MT\, 59601\, United States
CATEGORIES:Board of Trustees Meeting,Full Board Meeting
ORGANIZER;CN="Board of Trustees":MAILTO:boardoftrustees@helenaschools.org
END:VEVENT
BEGIN:VEVENT
DTSTART;TZID=America/Denver:20211217T143000
DTEND;TZID=America/Denver:20211217T163000
DTSTAMP:20260420T222352
CREATED:20211117T171416Z
LAST-MODIFIED:20211119T172925Z
UID:25684-1639751400-1639758600@hhs.helenaschools.org
SUMMARY:HHS Frosh Boys Basketball vs Senior  – Home
DESCRIPTION:
URL:https://hhs.helenaschools.org/event/hhs-frosh-boys-basketball-vs-senior-home/
LOCATION:MT
CATEGORIES:Helena High Boys Basketball - Frosh
END:VEVENT
BEGIN:VEVENT
DTSTART;TZID=America/Denver:20211217T160000
DTEND;TZID=America/Denver:20211217T180000
DTSTAMP:20260420T222352
CREATED:20211117T171417Z
LAST-MODIFIED:20211119T172925Z
UID:25685-1639756800-1639764000@hhs.helenaschools.org
SUMMARY:HHS Soph Boys Basketball vs Senior  – Home
DESCRIPTION:
URL:https://hhs.helenaschools.org/event/hhs-soph-boys-basketball-vs-senior-home/
LOCATION:MT
CATEGORIES:Helena High Boys Basketball - Soph
END:VEVENT
BEGIN:VEVENT
DTSTART;TZID=America/Denver:20211217T173000
DTEND;TZID=America/Denver:20211217T193000
DTSTAMP:20260420T222352
CREATED:20211117T171417Z
LAST-MODIFIED:20211119T172925Z
UID:25686-1639762200-1639769400@hhs.helenaschools.org
SUMMARY:HHS JV Boys Basketball vs Senior  – Home
DESCRIPTION:
URL:https://hhs.helenaschools.org/event/hhs-jv-boys-basketball-vs-senior-home/
LOCATION:MT
CATEGORIES:Helena High Boys Basketball - Junior Varsity
END:VEVENT
BEGIN:VEVENT
DTSTART;TZID=America/Denver:20211217T190000
DTEND;TZID=America/Denver:20211217T210000
DTSTAMP:20260420T222352
CREATED:20211117T171417Z
LAST-MODIFIED:20211119T172925Z
UID:25687-1639767600-1639774800@hhs.helenaschools.org
SUMMARY:HHS Varsity Boys Basketball vs Senior  – Home
DESCRIPTION:
URL:https://hhs.helenaschools.org/event/hhs-varsity-boys-basketball-vs-senior-home/
LOCATION:MT
CATEGORIES:Helena High Boys Basketball - Varsity
END:VEVENT
BEGIN:VEVENT
DTSTART;TZID=America/Denver:20211218T093000
DTEND;TZID=America/Denver:20211218T113000
DTSTAMP:20260420T222352
CREATED:20211118T171650Z
LAST-MODIFIED:20211119T172925Z
UID:25690-1639819800-1639827000@hhs.helenaschools.org
SUMMARY:HHS Frosh Boys Basketball vs West  – Home
DESCRIPTION:
URL:https://hhs.helenaschools.org/event/hhs-frosh-boys-basketball-vs-west-home/
LOCATION:MT
CATEGORIES:Helena High Boys Basketball - Frosh
END:VEVENT
BEGIN:VEVENT
DTSTART;TZID=America/Denver:20211218T110000
DTEND;TZID=America/Denver:20211218T130000
DTSTAMP:20260420T222352
CREATED:20211118T171650Z
LAST-MODIFIED:20211119T172925Z
UID:25691-1639825200-1639832400@hhs.helenaschools.org
SUMMARY:HHS Soph Boys Basketball vs West  – Home
DESCRIPTION:
URL:https://hhs.helenaschools.org/event/hhs-soph-boys-basketball-vs-west-home/
LOCATION:MT
CATEGORIES:Helena High Boys Basketball - Soph
END:VEVENT
BEGIN:VEVENT
DTSTART;TZID=America/Denver:20211218T123000
DTEND;TZID=America/Denver:20211218T143000
DTSTAMP:20260420T222352
CREATED:20211118T171703Z
LAST-MODIFIED:20211119T172936Z
UID:25692-1639830600-1639837800@hhs.helenaschools.org
SUMMARY:HHS JV Boys Basketball vs West  – Home
DESCRIPTION:
URL:https://hhs.helenaschools.org/event/hhs-jv-boys-basketball-vs-west-home/
LOCATION:MT
CATEGORIES:Helena High Boys Basketball - Junior Varsity
END:VEVENT
BEGIN:VEVENT
DTSTART;TZID=America/Denver:20211218T140000
DTEND;TZID=America/Denver:20211218T160000
DTSTAMP:20260420T222352
CREATED:20211118T171703Z
LAST-MODIFIED:20211119T172936Z
UID:25693-1639836000-1639843200@hhs.helenaschools.org
SUMMARY:HHS Varsity Boys Basketball vs West  – Home
DESCRIPTION:
URL:https://hhs.helenaschools.org/event/hhs-varsity-boys-basketball-vs-west-home/
LOCATION:MT
CATEGORIES:Helena High Boys Basketball - Varsity
END:VEVENT
END:VCALENDAR