BEGIN:VCALENDAR
VERSION:2.0
PRODID:-//Helena High School - ECPv6.15.20//NONSGML v1.0//EN
CALSCALE:GREGORIAN
METHOD:PUBLISH
X-WR-CALNAME:Helena High School
X-ORIGINAL-URL:https://hhs.helenaschools.org
X-WR-CALDESC:Events for Helena High School
REFRESH-INTERVAL;VALUE=DURATION:PT1H
X-Robots-Tag:noindex
X-PUBLISHED-TTL:PT1H
BEGIN:VTIMEZONE
TZID:America/Denver
BEGIN:DAYLIGHT
TZOFFSETFROM:-0700
TZOFFSETTO:-0600
TZNAME:MDT
DTSTART:20200308T090000
END:DAYLIGHT
BEGIN:STANDARD
TZOFFSETFROM:-0600
TZOFFSETTO:-0700
TZNAME:MST
DTSTART:20201101T080000
END:STANDARD
BEGIN:DAYLIGHT
TZOFFSETFROM:-0700
TZOFFSETTO:-0600
TZNAME:MDT
DTSTART:20210314T090000
END:DAYLIGHT
BEGIN:STANDARD
TZOFFSETFROM:-0600
TZOFFSETTO:-0700
TZNAME:MST
DTSTART:20211107T080000
END:STANDARD
BEGIN:DAYLIGHT
TZOFFSETFROM:-0700
TZOFFSETTO:-0600
TZNAME:MDT
DTSTART:20220313T090000
END:DAYLIGHT
BEGIN:STANDARD
TZOFFSETFROM:-0600
TZOFFSETTO:-0700
TZNAME:MST
DTSTART:20221106T080000
END:STANDARD
END:VTIMEZONE
BEGIN:VEVENT
DTSTART;TZID=America/Denver:20211101T120000
DTEND;TZID=America/Denver:20211101T130000
DTSTAMP:20260420T220545
CREATED:20211002T213338Z
LAST-MODIFIED:20211101T114536Z
UID:24959-1635768000-1635771600@hhs.helenaschools.org
SUMMARY:Facilities & Maintenance Committee Meeting 11.01.21
DESCRIPTION:
URL:https://hhs.helenaschools.org/event/facilities-maintenance-committee-meeting-11-01-21/
LOCATION:May Butler Center\, 55 S Rodney Street\, Helena\, MT\, 59601\, United States
CATEGORIES:Board of Trustees Meeting,Facilities and Maintenance Committee
ORGANIZER;CN="Board of Trustees":MAILTO:boardoftrustees@helenaschools.org
END:VEVENT
BEGIN:VEVENT
DTSTART;VALUE=DATE:20211102
DTEND;VALUE=DATE:20211103
DTSTAMP:20260420T220545
CREATED:20211003T212936Z
LAST-MODIFIED:20211101T114536Z
UID:24961-1635811200-1635897599@hhs.helenaschools.org
SUMMARY:Second Quarter Begins
DESCRIPTION:
URL:https://hhs.helenaschools.org/event/second-quarter-begins/
LOCATION:MT
CATEGORIES:District Schedule
END:VEVENT
BEGIN:VEVENT
DTSTART;TZID=America/Denver:20211102T120000
DTEND;TZID=America/Denver:20211102T130000
DTSTAMP:20260420T220545
CREATED:20211003T212936Z
LAST-MODIFIED:20211102T114427Z
UID:24962-1635854400-1635858000@hhs.helenaschools.org
SUMMARY:Policy Committee Meeting 11.02.21
DESCRIPTION:
URL:https://hhs.helenaschools.org/event/policy-committee-meeting-11-02-21/
LOCATION:May Butler Center\, 55 S Rodney Street\, Helena\, MT\, 59601\, United States
CATEGORIES:Board of Trustees Meeting,Policy Committee
ORGANIZER;CN="Board of Trustees":MAILTO:boardoftrustees@helenaschools.org
END:VEVENT
BEGIN:VEVENT
DTSTART;TZID=America/Denver:20211103T120000
DTEND;TZID=America/Denver:20211103T130000
DTSTAMP:20260420T220545
CREATED:20211004T213157Z
LAST-MODIFIED:20211103T115023Z
UID:24965-1635940800-1635944400@hhs.helenaschools.org
SUMMARY:Teaching & Learning Committee Meeting 11.03.21
DESCRIPTION:
URL:https://hhs.helenaschools.org/event/teaching-learning-committee-meeting-11-03-21/
LOCATION:May Butler Center\, 55 S Rodney Street\, Helena\, MT\, 59601\, United States
CATEGORIES:Board of Trustees Meeting,Teaching and Learning Committee
ORGANIZER;CN="Board of Trustees":MAILTO:boardoftrustees@helenaschools.org
END:VEVENT
BEGIN:VEVENT
DTSTART;VALUE=DATE:20211104
DTEND;VALUE=DATE:20211107
DTSTAMP:20260420T220545
CREATED:20211007T043639Z
LAST-MODIFIED:20211104T183025Z
UID:24996-1635984000-1636243199@hhs.helenaschools.org
SUMMARY:HHS Volleyball Divisional – Glacier
DESCRIPTION:
URL:https://hhs.helenaschools.org/event/hhs-volleyball-divisional-glacier/
LOCATION:MT
CATEGORIES:Helena High Volleyball
END:VEVENT
BEGIN:VEVENT
DTSTART;VALUE=DATE:20211104
DTEND;VALUE=DATE:20211107
DTSTAMP:20260420T220545
CREATED:20211007T043639Z
LAST-MODIFIED:20211007T154418Z
UID:24997-1635984000-1636243199@hhs.helenaschools.org
SUMMARY:CHS Volleyball Divisional – Glacier
DESCRIPTION:
URL:https://hhs.helenaschools.org/event/chs-volleyball-divisional-glacier/
LOCATION:MT
CATEGORIES:Capital High Volleyball
END:VEVENT
BEGIN:VEVENT
DTSTART;TZID=America/Denver:20211104T154500
DTEND;TZID=America/Denver:20211104T170000
DTSTAMP:20260420T220545
CREATED:20211026T112935Z
LAST-MODIFIED:20211104T115921Z
UID:25592-1636040700-1636045200@hhs.helenaschools.org
SUMMARY:Health Benefits Committee Meeting
DESCRIPTION:Agenda 11.04.21 Updated
URL:https://hhs.helenaschools.org/event/health-benefits-committee-meeting/
LOCATION:Microsoft Teams\, Helena\, MT\, 59601\, United States
CATEGORIES:District Schedule,Health & Benefits Committee Meetings
END:VEVENT
BEGIN:VEVENT
DTSTART;TZID=America/Denver:20211105T120000
DTEND;TZID=America/Denver:20211105T130000
DTSTAMP:20260420T220545
CREATED:20211007T043639Z
LAST-MODIFIED:20211105T115916Z
UID:24998-1636113600-1636117200@hhs.helenaschools.org
SUMMARY:Budget & Finance Committee Meeting 11.05.21
DESCRIPTION:
URL:https://hhs.helenaschools.org/event/budget-finance-committee-meeting-11-05-21/
LOCATION:May Butler Center\, 55 S Rodney Street\, Helena\, MT\, 59601\, United States
CATEGORIES:Board of Trustees Meeting,Budget and Finance Committee
ORGANIZER;CN="Board of Trustees":MAILTO:boardoftrustees@helenaschools.org
END:VEVENT
BEGIN:VEVENT
DTSTART;TZID=America/Denver:20211109T110000
DTEND;TZID=America/Denver:20211109T120000
DTSTAMP:20260420T220545
CREATED:20211010T000210Z
LAST-MODIFIED:20211109T163313Z
UID:25209-1636455600-1636459200@hhs.helenaschools.org
SUMMARY:Executive Committee Meeting 11.09.21
DESCRIPTION:
URL:https://hhs.helenaschools.org/event/executive-committee-meeting-11-09-21/
LOCATION:May Butler Center\, 55 S Rodney Street\, Helena\, MT\, 59601\, United States
CATEGORIES:Board of Trustees Meeting,Executive Session
ORGANIZER;CN="Board of Trustees":MAILTO:boardoftrustees@helenaschools.org
END:VEVENT
BEGIN:VEVENT
DTSTART;TZID=America/Denver:20211109T173000
DTEND;TZID=America/Denver:20211109T203000
DTSTAMP:20260420T220545
CREATED:20211010T000209Z
LAST-MODIFIED:20211109T163313Z
UID:25208-1636479000-1636489800@hhs.helenaschools.org
SUMMARY:Board Meeting 11.09.21
DESCRIPTION:
URL:https://hhs.helenaschools.org/event/board-meeting-11-09-21/
LOCATION:Capital High School\, 100 Valley Dr.\, Helena\, MT\, 59601\, United States
CATEGORIES:Board of Trustees Meeting,Full Board Meeting
ORGANIZER;CN="Board of Trustees":MAILTO:boardoftrustees@helenaschools.org
END:VEVENT
BEGIN:VEVENT
DTSTART;VALUE=DATE:20211111
DTEND;VALUE=DATE:20211114
DTSTAMP:20260420T220545
CREATED:20211014T174410Z
LAST-MODIFIED:20211110T163221Z
UID:25553-1636588800-1636847999@hhs.helenaschools.org
SUMMARY:HHS Volleyball State – MSU Bozeman
DESCRIPTION:
URL:https://hhs.helenaschools.org/event/hhs-volleyball-state-msu-bozeman/
LOCATION:MT
CATEGORIES:Helena High Volleyball
END:VEVENT
BEGIN:VEVENT
DTSTART;VALUE=DATE:20211124
DTEND;VALUE=DATE:20211127
DTSTAMP:20260420T220545
CREATED:20211027T113306Z
LAST-MODIFIED:20211124T180301Z
UID:25596-1637712000-1637971199@hhs.helenaschools.org
SUMMARY:Thanksgiving Break
DESCRIPTION:No School \nDistrict offices closed 11/25-26
URL:https://hhs.helenaschools.org/event/thanksgiving-break-2/
LOCATION:MT
CATEGORIES:District Closed,District Schedule,No School
END:VEVENT
BEGIN:VEVENT
DTSTART;TZID=America/Denver:20211130T110000
DTEND;TZID=America/Denver:20211130T120000
DTSTAMP:20260420T220545
CREATED:20211031T114601Z
LAST-MODIFIED:20211130T190242Z
UID:25611-1638270000-1638273600@hhs.helenaschools.org
SUMMARY:Executive Committee Meeting 11.30.21
DESCRIPTION:
URL:https://hhs.helenaschools.org/event/executive-committee-meeting-11-30-21/
LOCATION:1325 Poplar St.\, Helena\, MT\, 59601\, United States
CATEGORIES:Board of Trustees Meeting,Executive Session
ORGANIZER;CN="Board of Trustees":MAILTO:boardoftrustees@helenaschools.org
END:VEVENT
BEGIN:VEVENT
DTSTART;TZID=America/Denver:20211130T153000
DTEND;TZID=America/Denver:20211130T193000
DTSTAMP:20260420T220545
CREATED:20211031T114602Z
LAST-MODIFIED:20211130T190242Z
UID:25612-1638286200-1638300600@hhs.helenaschools.org
SUMMARY:Board Work Session 11.30.21
DESCRIPTION:
URL:https://hhs.helenaschools.org/event/board-work-session-11-30-21/
LOCATION:Helena Middle School\, 1025 N. Rodney\, Helena\, MT\, 59601\, United States
CATEGORIES:Board of Trustees Meeting,Work Session
ORGANIZER;CN="Board of Trustees":MAILTO:boardoftrustees@helenaschools.org
END:VEVENT
END:VCALENDAR