BEGIN:VCALENDAR
VERSION:2.0
PRODID:-//Helena High School - ECPv6.15.20//NONSGML v1.0//EN
CALSCALE:GREGORIAN
METHOD:PUBLISH
X-WR-CALNAME:Helena High School
X-ORIGINAL-URL:https://hhs.helenaschools.org
X-WR-CALDESC:Events for Helena High School
REFRESH-INTERVAL;VALUE=DURATION:PT1H
X-Robots-Tag:noindex
X-PUBLISHED-TTL:PT1H
BEGIN:VTIMEZONE
TZID:America/Denver
BEGIN:DAYLIGHT
TZOFFSETFROM:-0700
TZOFFSETTO:-0600
TZNAME:MDT
DTSTART:20200308T090000
END:DAYLIGHT
BEGIN:STANDARD
TZOFFSETFROM:-0600
TZOFFSETTO:-0700
TZNAME:MST
DTSTART:20201101T080000
END:STANDARD
BEGIN:DAYLIGHT
TZOFFSETFROM:-0700
TZOFFSETTO:-0600
TZNAME:MDT
DTSTART:20210314T090000
END:DAYLIGHT
BEGIN:STANDARD
TZOFFSETFROM:-0600
TZOFFSETTO:-0700
TZNAME:MST
DTSTART:20211107T080000
END:STANDARD
BEGIN:DAYLIGHT
TZOFFSETFROM:-0700
TZOFFSETTO:-0600
TZNAME:MDT
DTSTART:20220313T090000
END:DAYLIGHT
BEGIN:STANDARD
TZOFFSETFROM:-0600
TZOFFSETTO:-0700
TZNAME:MST
DTSTART:20221106T080000
END:STANDARD
END:VTIMEZONE
BEGIN:VEVENT
DTSTART;TZID=America/Denver:20210413T110000
DTEND;TZID=America/Denver:20210413T120000
DTSTAMP:20260421T234147
CREATED:20210407T134434Z
LAST-MODIFIED:20210413T140035Z
UID:24260-1618311600-1618315200@hhs.helenaschools.org
SUMMARY:Board of Trustees Executive Committee Meeting – 04.13.2021
DESCRIPTION:
URL:https://hhs.helenaschools.org/event/board-of-trustees-executive-committee-meeting-04-13-2021/
LOCATION:May Butler Center\, 55 S Rodney Street\, Helena\, MT\, 59601\, United States
CATEGORIES:Board of Trustees Meeting,District Schedule,Executive Session
ORGANIZER;CN="Board of Trustees":MAILTO:boardoftrustees@helenaschools.org
END:VEVENT
BEGIN:VEVENT
DTSTART;TZID=America/Denver:20210413T150000
DTEND;TZID=America/Denver:20210413T190000
DTSTAMP:20260421T234147
CREATED:20210410T140116Z
LAST-MODIFIED:20210413T140035Z
UID:24279-1618326000-1618340400@hhs.helenaschools.org
SUMMARY:HHS Softball v. Butte – AWAY
DESCRIPTION:JV @ 3/5pm
URL:https://hhs.helenaschools.org/event/hhs-softball-v-butte-away-2/
LOCATION:Butte High School\, 401 S Wyoming Ave.\, Butte\, MT\, 59701\, United States
CATEGORIES:Activities,Helena High Activities,Helena High Softball
END:VEVENT
BEGIN:VEVENT
DTSTART;TZID=America/Denver:20210413T170000
DTEND;TZID=America/Denver:20210413T190000
DTSTAMP:20260421T234147
CREATED:20201030T153156Z
LAST-MODIFIED:20210315T110207Z
UID:23276-1618333200-1618340400@hhs.helenaschools.org
SUMMARY:HHS Softball v. Gallatin
DESCRIPTION:JV @ 3pm
URL:https://hhs.helenaschools.org/event/hhs-softball-v-gallatin/
LOCATION:Helena High School\, 1300 Billings Ave.\, Helena\, 59601
CATEGORIES:Activities,Helena High Activities,Helena High Softball
END:VEVENT
BEGIN:VEVENT
DTSTART;TZID=America/Denver:20210413T173000
DTEND;TZID=America/Denver:20210413T203000
DTSTAMP:20260421T234147
CREATED:20210314T104650Z
LAST-MODIFIED:20210413T140035Z
UID:24146-1618335000-1618345800@hhs.helenaschools.org
SUMMARY:Board of Trustees Meeting – 04.13.2021
DESCRIPTION:
URL:https://hhs.helenaschools.org/event/board-of-trustees-meeting-04-13-2021/
LOCATION:Capital High School\, 100 Valley Dr.\, Helena\, MT\, 59601\, United States
CATEGORIES:Board of Trustees Meeting,District Schedule,Full Board Meeting
ORGANIZER;CN="Board of Trustees":MAILTO:boardoftrustees@helenaschools.org
END:VEVENT
BEGIN:VEVENT
DTSTART;TZID=America/Denver:20210415T150000
DTEND;TZID=America/Denver:20210415T170000
DTSTAMP:20260421T234147
CREATED:20210410T140116Z
LAST-MODIFIED:20210415T140008Z
UID:24280-1618498800-1618506000@hhs.helenaschools.org
SUMMARY:HHS Tennis v Belgrade/Bozeman – JV only – HOME
DESCRIPTION:
URL:https://hhs.helenaschools.org/event/hhs-tennis-v-belgrade-bozeman-jv-only-home/
LOCATION:Lockey Park\, 1720 Lockey Ave.\, Helena\, MT\, 59601\, United States
CATEGORIES:Activities,Helena High Activities,Helena High Tennis
END:VEVENT
BEGIN:VEVENT
DTSTART;TZID=America/Denver:20210416T100000
DTEND;TZID=America/Denver:20210416T120000
DTSTAMP:20260421T234147
CREATED:20210317T115950Z
LAST-MODIFIED:20210416T135935Z
UID:24173-1618567200-1618574400@hhs.helenaschools.org
SUMMARY:HHS Tennis v. Bozeman\, Belgrade\, and Butte – AWAY
DESCRIPTION:
URL:https://hhs.helenaschools.org/event/hhs-tennis-v-bozeman-belgrade-and-butte-away/
LOCATION:Butte – TBD\, Butte\, MT\, 59701\, United States
CATEGORIES:Activities,Helena High Activities,Helena High Tennis
END:VEVENT
BEGIN:VEVENT
DTSTART;TZID=America/Denver:20210416T100000
DTEND;TZID=America/Denver:20210416T150000
DTSTAMP:20260421T234147
CREATED:20201030T153156Z
LAST-MODIFIED:20201210T004628Z
UID:23277-1618567200-1618585200@hhs.helenaschools.org
SUMMARY:HHS Tennis v. Bozeman and Belgrade and Butte
DESCRIPTION:
URL:https://hhs.helenaschools.org/event/hhs-tennis-v-bozeman-and-belgrade-and-butte/
LOCATION:Butte – TBD\, Butte\, MT\, 59701\, United States
CATEGORIES:Activities,Helena High Activities,Helena High Tennis
END:VEVENT
BEGIN:VEVENT
DTSTART;TZID=America/Denver:20210416T150000
DTEND;TZID=America/Denver:20210416T170000
DTSTAMP:20260421T234147
CREATED:20210317T115950Z
LAST-MODIFIED:20210416T135935Z
UID:24175-1618585200-1618592400@hhs.helenaschools.org
SUMMARY:HHS Track & Field v. Hellgate – AWAY
DESCRIPTION:
URL:https://hhs.helenaschools.org/event/hhs-track-field-v-hellgate-away/
LOCATION:Hellgate High School\, 925 Gerald Ave.\, Missoula\, MT\, 59801\, United States
CATEGORIES:Activities,Helena High Activities,Helena High Track & Field
END:VEVENT
BEGIN:VEVENT
DTSTART;TZID=America/Denver:20210417T093000
DTEND;TZID=America/Denver:20210417T170000
DTSTAMP:20260421T234147
CREATED:20201030T153156Z
LAST-MODIFIED:20201210T004628Z
UID:23278-1618651800-1618678800@hhs.helenaschools.org
SUMMARY:Track & Field at MCPS Invitational
DESCRIPTION:
URL:https://hhs.helenaschools.org/event/track-field-at-mcps-invitational/
LOCATION:Missoula – TBD\, Missoula\, MT\, 59801\, United States
CATEGORIES:Activities,Capital High School Activities,Capital High Track & Field,Helena High Activities,Helena High Track & Field
END:VEVENT
BEGIN:VEVENT
DTSTART;TZID=America/Denver:20210417T120000
DTEND;TZID=America/Denver:20210417T160000
DTSTAMP:20260421T234147
CREATED:20201030T153156Z
LAST-MODIFIED:20201210T004628Z
UID:23279-1618660800-1618675200@hhs.helenaschools.org
SUMMARY:HHS Softball v. Flathead and Glacier
DESCRIPTION:JV @ 12/2pm
URL:https://hhs.helenaschools.org/event/hhs-softball-v-flathead-and-glacier/
LOCATION:Helena High School\, 1300 Billings Ave.\, Helena\, 59601
CATEGORIES:Activities,Helena High Activities,Helena High Softball
END:VEVENT
BEGIN:VEVENT
DTSTART;TZID=America/Denver:20210417T120000
DTEND;TZID=America/Denver:20210417T160000
DTSTAMP:20260421T234147
CREATED:20210318T120320Z
LAST-MODIFIED:20210417T135910Z
UID:24185-1618660800-1618675200@hhs.helenaschools.org
SUMMARY:HHS Softball v. Flathead and Glacier – HOME
DESCRIPTION:JV @ 12/2pm
URL:https://hhs.helenaschools.org/event/hhs-softball-v-flathead-and-glacier-home/
LOCATION:Helena High School\, 1300 Billings Ave.\, Helena\, 59601
CATEGORIES:Activities,Helena High Activities,Helena High Softball
END:VEVENT
END:VCALENDAR