BEGIN:VCALENDAR
VERSION:2.0
PRODID:-//Helena High School - ECPv6.15.20//NONSGML v1.0//EN
CALSCALE:GREGORIAN
METHOD:PUBLISH
X-WR-CALNAME:Helena High School
X-ORIGINAL-URL:https://hhs.helenaschools.org
X-WR-CALDESC:Events for Helena High School
REFRESH-INTERVAL;VALUE=DURATION:PT1H
X-Robots-Tag:noindex
X-PUBLISHED-TTL:PT1H
BEGIN:VTIMEZONE
TZID:America/Denver
BEGIN:DAYLIGHT
TZOFFSETFROM:-0700
TZOFFSETTO:-0600
TZNAME:MDT
DTSTART:20200308T090000
END:DAYLIGHT
BEGIN:STANDARD
TZOFFSETFROM:-0600
TZOFFSETTO:-0700
TZNAME:MST
DTSTART:20201101T080000
END:STANDARD
BEGIN:DAYLIGHT
TZOFFSETFROM:-0700
TZOFFSETTO:-0600
TZNAME:MDT
DTSTART:20210314T090000
END:DAYLIGHT
BEGIN:STANDARD
TZOFFSETFROM:-0600
TZOFFSETTO:-0700
TZNAME:MST
DTSTART:20211107T080000
END:STANDARD
BEGIN:DAYLIGHT
TZOFFSETFROM:-0700
TZOFFSETTO:-0600
TZNAME:MDT
DTSTART:20220313T090000
END:DAYLIGHT
BEGIN:STANDARD
TZOFFSETFROM:-0600
TZOFFSETTO:-0700
TZNAME:MST
DTSTART:20221106T080000
END:STANDARD
END:VTIMEZONE
BEGIN:VEVENT
DTSTART;TZID=America/Denver:20210511T110000
DTEND;TZID=America/Denver:20210511T120000
DTSTAMP:20260423T170857
CREATED:20210508T144421Z
LAST-MODIFIED:20210511T150053Z
UID:24376-1620730800-1620734400@hhs.helenaschools.org
SUMMARY:Board of Trustees Executive Committee Meeting – 05.11.2021
DESCRIPTION:
URL:https://hhs.helenaschools.org/event/board-of-trustees-executive-committee-meeting-05-11-2021/
LOCATION:May Butler Center\, 55 S Rodney Street\, Helena\, MT\, 59601\, United States
CATEGORIES:Board of Trustees Meeting,District Schedule,Executive Session
ORGANIZER;CN="Board of Trustees":MAILTO:boardoftrustees@helenaschools.org
END:VEVENT
BEGIN:VEVENT
DTSTART;TZID=America/Denver:20210511T160000
DTEND;TZID=America/Denver:20210511T190000
DTSTAMP:20260423T170857
CREATED:20201030T153159Z
LAST-MODIFIED:20210511T150053Z
UID:23298-1620748800-1620759600@hhs.helenaschools.org
SUMMARY:Crosstown Tennis
DESCRIPTION:
URL:https://hhs.helenaschools.org/event/crosstown-tennis-2/
LOCATION:Lockey Park\, 1720 Lockey Ave.\, Helena\, MT\, 59601\, United States
CATEGORIES:Activities,Capital High School Activities,Capital High Tennis,Helena High Activities,Helena High Tennis
END:VEVENT
BEGIN:VEVENT
DTSTART;TZID=America/Denver:20210511T170000
DTEND;TZID=America/Denver:20210511T190000
DTSTAMP:20260423T170857
CREATED:20201030T153159Z
LAST-MODIFIED:20210511T150053Z
UID:23299-1620752400-1620759600@hhs.helenaschools.org
SUMMARY:Crosstown Softball
DESCRIPTION:JV @ 3pm
URL:https://hhs.helenaschools.org/event/crosstown-softball-2/
LOCATION:Northwest Park\, 100 Valley Dr.\, Helena\, MT\, 59601\, United States
CATEGORIES:Activities,Capital High School Activities,Capital High Softball,Helena High Activities,Helena High Softball
END:VEVENT
BEGIN:VEVENT
DTSTART;TZID=America/Denver:20210511T173000
DTEND;TZID=America/Denver:20210511T203000
DTSTAMP:20260423T170857
CREATED:20210414T135908Z
LAST-MODIFIED:20210511T150053Z
UID:24295-1620754200-1620765000@hhs.helenaschools.org
SUMMARY:Board of Trustees Meeting – 05.11.2021
DESCRIPTION:
URL:https://hhs.helenaschools.org/event/board-of-trustees-meeting-05-11-2021/
LOCATION:Ray Bjork Learning Center\, 1600 8th Ave.\, Helena\, 59601
CATEGORIES:Board of Trustees Meeting,District Schedule,Full Board Meeting
ORGANIZER;CN="Board of Trustees":MAILTO:boardoftrustees@helenaschools.org
END:VEVENT
BEGIN:VEVENT
DTSTART;VALUE=DATE:20210512
DTEND;VALUE=DATE:20210513
DTSTAMP:20260423T170857
CREATED:20201030T153159Z
LAST-MODIFIED:20201210T004629Z
UID:23301-1620777600-1620863999@hhs.helenaschools.org
SUMMARY:HHS JV Softball v. Frenchtown
DESCRIPTION:
URL:https://hhs.helenaschools.org/event/hhs-jv-softball-v-frenchtown/
LOCATION:Frenchtown High School\, 17620 Frenchtown Frontage Road\, Frenchtown\, MT\, 59834\, United States
CATEGORIES:Activities,Helena High Activities,Helena High Softball
END:VEVENT
BEGIN:VEVENT
DTSTART;TZID=America/Denver:20210512T120000
DTEND;TZID=America/Denver:20210512T130000
DTSTAMP:20260423T170857
CREATED:20210504T143004Z
LAST-MODIFIED:20210512T151509Z
UID:24359-1620820800-1620824400@hhs.helenaschools.org
SUMMARY:Board of Trustees Facilities & Maintenance Committee Meeting – 05.12.2021
DESCRIPTION:  \n 
URL:https://hhs.helenaschools.org/event/board-of-trustees-facilities-maintenance-committee-meeting-05-06-2021/
LOCATION:May Butler Center\, 55 S Rodney Street\, Helena\, MT\, 59601\, United States
CATEGORIES:Board of Trustees Meeting,District Schedule,Facilities and Maintenance Committee
ORGANIZER;CN="Board of Trustees":MAILTO:boardoftrustees@helenaschools.org
END:VEVENT
BEGIN:VEVENT
DTSTART;TZID=America/Denver:20210512T150000
DTEND;TZID=America/Denver:20210512T180000
DTSTAMP:20260423T170857
CREATED:20210507T143121Z
LAST-MODIFIED:20210512T151510Z
UID:24372-1620831600-1620842400@hhs.helenaschools.org
SUMMARY:HHS Softball v Mission and Frenchtown – JV ONLY – Away
DESCRIPTION:v. Mission @ 3pm\nv. Frenchtown @ 5pm
URL:https://hhs.helenaschools.org/event/hhs-softball-v-mission-and-frenchtown-jv-only-away/
LOCATION:Frenchtown High School\, 17620 Frenchtown Frontage Road\, Frenchtown\, MT\, 59834\, United States
CATEGORIES:Activities,Helena High Activities,Helena High Softball
END:VEVENT
BEGIN:VEVENT
DTSTART;TZID=America/Denver:20210513T150000
DTEND;TZID=America/Denver:20210513T170000
DTSTAMP:20260423T170857
CREATED:20210413T140038Z
LAST-MODIFIED:20210513T153003Z
UID:24291-1620918000-1620925200@hhs.helenaschools.org
SUMMARY:Crosstown Track & Field
DESCRIPTION:
URL:https://hhs.helenaschools.org/event/crosstown-track-field-2/
LOCATION:Vigilante Stadium\, 1025 N. Rodney\, Helena\, MT\, 59601\, United States
CATEGORIES:Activities,Capital High School Activities,Capital High Track & Field,Helena High Activities,Helena High Track & Field
END:VEVENT
BEGIN:VEVENT
DTSTART;TZID=America/Denver:20210513T153000
DTEND;TZID=America/Denver:20210513T190000
DTSTAMP:20260423T170857
CREATED:20201030T153159Z
LAST-MODIFIED:20201210T004629Z
UID:23302-1620919800-1620932400@hhs.helenaschools.org
SUMMARY:Crosstown Track & Field
DESCRIPTION:
URL:https://hhs.helenaschools.org/event/crosstown-track-field/
LOCATION:Vigilante Stadium\, 1025 N. Rodney\, Helena\, MT\, 59601\, United States
CATEGORIES:Activities,Capital High School Activities,Capital High Track & Field,Helena High Activities,Helena High Track & Field
END:VEVENT
BEGIN:VEVENT
DTSTART;TZID=America/Denver:20210515T113000
DTEND;TZID=America/Denver:20210515T133000
DTSTAMP:20260423T170857
CREATED:20210507T143121Z
LAST-MODIFIED:20210515T153138Z
UID:24373-1621078200-1621085400@hhs.helenaschools.org
SUMMARY:HHS Tennis v. Bozeman – HOME
DESCRIPTION:Girls play at Capital High School.\nBoys play at Barney Park.
URL:https://hhs.helenaschools.org/event/hhs-tennis-v-bozeman-home/
LOCATION:MT
CATEGORIES:Activities,Helena High Activities,Helena High Softball
END:VEVENT
BEGIN:VEVENT
DTSTART;TZID=America/Denver:20210515T120000
DTEND;TZID=America/Denver:20210515T160000
DTSTAMP:20260423T170857
CREATED:20201030T153159Z
LAST-MODIFIED:20201210T004629Z
UID:23304-1621080000-1621094400@hhs.helenaschools.org
SUMMARY:HHS Softball v. Skyview and West
DESCRIPTION:JV @ 12/2pm
URL:https://hhs.helenaschools.org/event/hhs-softball-v-skyview-and-west/
LOCATION:Billings – TBD\, Billings\, MT\, 59101\, United States
CATEGORIES:Activities,Helena High Activities,Helena High Softball
END:VEVENT
BEGIN:VEVENT
DTSTART;TZID=America/Denver:20210515T120000
DTEND;TZID=America/Denver:20210515T170000
DTSTAMP:20260423T170857
CREATED:20210415T140011Z
LAST-MODIFIED:20210515T153139Z
UID:24299-1621080000-1621098000@hhs.helenaschools.org
SUMMARY:HHS Softball v. Skyview and Billings West – AWAY
DESCRIPTION:JV @ 12/2pm
URL:https://hhs.helenaschools.org/event/hhs-softball-v-skyview-and-billings-west-away/
LOCATION:Billings – TBD\, Billings\, MT\, 59101\, United States
CATEGORIES:Activities,Helena High Activities,Helena High Softball
END:VEVENT
END:VCALENDAR