BEGIN:VCALENDAR
VERSION:2.0
PRODID:-//Helena High School - ECPv6.15.20//NONSGML v1.0//EN
CALSCALE:GREGORIAN
METHOD:PUBLISH
X-WR-CALNAME:Helena High School
X-ORIGINAL-URL:https://hhs.helenaschools.org
X-WR-CALDESC:Events for Helena High School
REFRESH-INTERVAL;VALUE=DURATION:PT1H
X-Robots-Tag:noindex
X-PUBLISHED-TTL:PT1H
BEGIN:VTIMEZONE
TZID:America/Denver
BEGIN:DAYLIGHT
TZOFFSETFROM:-0700
TZOFFSETTO:-0600
TZNAME:MDT
DTSTART:20200308T090000
END:DAYLIGHT
BEGIN:STANDARD
TZOFFSETFROM:-0600
TZOFFSETTO:-0700
TZNAME:MST
DTSTART:20201101T080000
END:STANDARD
BEGIN:DAYLIGHT
TZOFFSETFROM:-0700
TZOFFSETTO:-0600
TZNAME:MDT
DTSTART:20210314T090000
END:DAYLIGHT
BEGIN:STANDARD
TZOFFSETFROM:-0600
TZOFFSETTO:-0700
TZNAME:MST
DTSTART:20211107T080000
END:STANDARD
BEGIN:DAYLIGHT
TZOFFSETFROM:-0700
TZOFFSETTO:-0600
TZNAME:MDT
DTSTART:20220313T090000
END:DAYLIGHT
BEGIN:STANDARD
TZOFFSETFROM:-0600
TZOFFSETTO:-0700
TZNAME:MST
DTSTART:20221106T080000
END:STANDARD
END:VTIMEZONE
BEGIN:VEVENT
DTSTART;TZID=America/Denver:20210802T120000
DTEND;TZID=America/Denver:20210802T130000
DTSTAMP:20260422T141432
CREATED:20210719T174717Z
LAST-MODIFIED:20210802T185935Z
UID:24511-1627905600-1627909200@hhs.helenaschools.org
SUMMARY:BOARD OF TRUSTEES FACILITIES & MAINTENANCE COMMITTEE MEETING 08.02.21
DESCRIPTION:
URL:https://hhs.helenaschools.org/event/board-of-trustees-facilities-maintenance-committee-meeting-08-02-21/
LOCATION:May Butler Center\, 55 S Rodney Street\, Helena\, MT\, 59601\, United States
CATEGORIES:Board of Trustees Meeting,Facilities and Maintenance Committee
ORGANIZER;CN="Board of Trustees":MAILTO:boardoftrustees@helenaschools.org
END:VEVENT
BEGIN:VEVENT
DTSTART;TZID=America/Denver:20210806T120000
DTEND;TZID=America/Denver:20210806T130000
DTSTAMP:20260422T141432
CREATED:20210719T174717Z
LAST-MODIFIED:20210806T191542Z
UID:24513-1628251200-1628254800@hhs.helenaschools.org
SUMMARY:BOARD OF TRUSTEES BUDGET & FINANCE COMMITTEE MEETING-08.06.21
DESCRIPTION:
URL:https://hhs.helenaschools.org/event/board-of-trustees-budget-finance-committee-meeting-08-06-21/
LOCATION:May Butler Center\, 55 S Rodney Street\, Helena\, MT\, 59601\, United States
CATEGORIES:Board of Trustees Meeting,Budget and Finance Committee
ORGANIZER;CN="Board of Trustees":MAILTO:boardoftrustees@helenaschools.org
END:VEVENT
END:VCALENDAR