BEGIN:VCALENDAR
VERSION:2.0
PRODID:-//Helena High School - ECPv6.15.20//NONSGML v1.0//EN
CALSCALE:GREGORIAN
METHOD:PUBLISH
X-ORIGINAL-URL:https://hhs.helenaschools.org
X-WR-CALDESC:Events for Helena High School
REFRESH-INTERVAL;VALUE=DURATION:PT1H
X-Robots-Tag:noindex
X-PUBLISHED-TTL:PT1H
BEGIN:VTIMEZONE
TZID:America/Denver
BEGIN:DAYLIGHT
TZOFFSETFROM:-0700
TZOFFSETTO:-0600
TZNAME:MDT
DTSTART:20200308T090000
END:DAYLIGHT
BEGIN:STANDARD
TZOFFSETFROM:-0600
TZOFFSETTO:-0700
TZNAME:MST
DTSTART:20201101T080000
END:STANDARD
BEGIN:DAYLIGHT
TZOFFSETFROM:-0700
TZOFFSETTO:-0600
TZNAME:MDT
DTSTART:20210314T090000
END:DAYLIGHT
BEGIN:STANDARD
TZOFFSETFROM:-0600
TZOFFSETTO:-0700
TZNAME:MST
DTSTART:20211107T080000
END:STANDARD
BEGIN:DAYLIGHT
TZOFFSETFROM:-0700
TZOFFSETTO:-0600
TZNAME:MDT
DTSTART:20220313T090000
END:DAYLIGHT
BEGIN:STANDARD
TZOFFSETFROM:-0600
TZOFFSETTO:-0700
TZNAME:MST
DTSTART:20221106T080000
END:STANDARD
END:VTIMEZONE
BEGIN:VEVENT
DTSTART;TZID=America/Denver:20210422T153000
DTEND;TZID=America/Denver:20210422T190000
DTSTAMP:20260420T182423
CREATED:20201030T153157Z
LAST-MODIFIED:20201210T004628Z
UID:23282-1619105400-1619118000@hhs.helenaschools.org
SUMMARY:Track & Field at Helena Frosh Invitational
DESCRIPTION:
URL:https://hhs.helenaschools.org/event/track-field-at-helena-frosh-invitational/
LOCATION:Vigilante Stadium\, 1025 N. Rodney\, Helena\, MT\, 59601\, United States
CATEGORIES:Activities,Capital High School Activities,Capital High Track & Field,Helena High Activities,Helena High Track & Field
END:VEVENT
BEGIN:VEVENT
DTSTART;TZID=America/Denver:20210422T153000
DTEND;TZID=America/Denver:20210422T173000
DTSTAMP:20260420T182423
CREATED:20210323T123118Z
LAST-MODIFIED:20210422T141815Z
UID:24203-1619105400-1619112600@hhs.helenaschools.org
SUMMARY:Track and Field Helena Frosh Invitational – HOME
DESCRIPTION:
URL:https://hhs.helenaschools.org/event/track-and-field-helena-frosh-invitational-home/
LOCATION:Vigilante Stadium\, 1025 N. Rodney\, Helena\, MT\, 59601\, United States
CATEGORIES:Activities,Capital High School Activities,Capital High Track & Field,Helena High Activities,Helena High Track & Field
END:VEVENT
BEGIN:VEVENT
DTSTART;TZID=America/Denver:20210420T153000
DTEND;TZID=America/Denver:20210420T190000
DTSTAMP:20260420T182423
CREATED:20201030T153157Z
LAST-MODIFIED:20201210T004628Z
UID:23280-1618932600-1618945200@hhs.helenaschools.org
SUMMARY:Track & Field JV Track & Field Coaches Meet
DESCRIPTION:
URL:https://hhs.helenaschools.org/event/track-field-jv-track-field-coaches-meet/
LOCATION:Vigilante Stadium\, 1025 N. Rodney\, Helena\, MT\, 59601\, United States
CATEGORIES:Activities,Capital High School Activities,Capital High Track & Field,Helena High Activities,Helena High Track & Field
END:VEVENT
BEGIN:VEVENT
DTSTART;TZID=America/Denver:20210409T150000
DTEND;TZID=America/Denver:20210409T170000
DTSTAMP:20260420T182423
CREATED:20210316T111847Z
LAST-MODIFIED:20210409T135913Z
UID:24160-1617980400-1617987600@hhs.helenaschools.org
SUMMARY:HHS Track & Field v. Big Sky – HOME
DESCRIPTION:
URL:https://hhs.helenaschools.org/event/hhs-track-field-v-big-sky-home/
LOCATION:Vigilante Stadium\, 1025 N. Rodney\, Helena\, MT\, 59601\, United States
CATEGORIES:Activities,Helena High Activities,Helena High Track & Field
END:VEVENT
BEGIN:VEVENT
DTSTART;TZID=America/Denver:20210406T153000
DTEND;TZID=America/Denver:20210406T173000
DTSTAMP:20260420T182423
CREATED:20210316T111846Z
LAST-MODIFIED:20210406T134606Z
UID:24158-1617723000-1617730200@hhs.helenaschools.org
SUMMARY:HHS Track & Field v. Butte – HOME
DESCRIPTION:
URL:https://hhs.helenaschools.org/event/hhs-track-field-v-butte-home/
LOCATION:Vigilante Stadium\, 1025 N. Rodney\, Helena\, MT\, 59601\, United States
CATEGORIES:Activities,Helena High Activities,Helena High Track & Field
END:VEVENT
END:VCALENDAR